BEGIN:VCALENDAR
VERSION:2.0
PRODID:-//County of St. Paul - ECPv6.15.17.1//NONSGML v1.0//EN
CALSCALE:GREGORIAN
METHOD:PUBLISH
X-ORIGINAL-URL:https://www.county.stpaul.ab.ca
X-WR-CALDESC:Events for County of St. Paul
REFRESH-INTERVAL;VALUE=DURATION:PT1H
X-Robots-Tag:noindex
X-PUBLISHED-TTL:PT1H
BEGIN:VTIMEZONE
TZID:America/Edmonton
BEGIN:DAYLIGHT
TZOFFSETFROM:-0700
TZOFFSETTO:-0600
TZNAME:MDT
DTSTART:20240310T090000
END:DAYLIGHT
BEGIN:STANDARD
TZOFFSETFROM:-0600
TZOFFSETTO:-0700
TZNAME:MST
DTSTART:20241103T080000
END:STANDARD
BEGIN:DAYLIGHT
TZOFFSETFROM:-0700
TZOFFSETTO:-0600
TZNAME:MDT
DTSTART:20250309T090000
END:DAYLIGHT
BEGIN:STANDARD
TZOFFSETFROM:-0600
TZOFFSETTO:-0700
TZNAME:MST
DTSTART:20251102T080000
END:STANDARD
BEGIN:DAYLIGHT
TZOFFSETFROM:-0700
TZOFFSETTO:-0600
TZNAME:MDT
DTSTART:20260308T090000
END:DAYLIGHT
BEGIN:STANDARD
TZOFFSETFROM:-0600
TZOFFSETTO:-0700
TZNAME:MST
DTSTART:20261101T080000
END:STANDARD
END:VTIMEZONE
BEGIN:VEVENT
DTSTART;TZID=America/Edmonton:20251001T120000
DTEND;TZID=America/Edmonton:20251001T133000
DTSTAMP:20260422T064323
CREATED:20260126T183622Z
LAST-MODIFIED:20260126T183622Z
UID:10007494-1759320000-1759325400@www.county.stpaul.ab.ca
SUMMARY:Senior Skating
DESCRIPTION:Free drop-in! \nTimes subject to change throughout the season\, check the Arena’s Facebook page.
URL:https://www.county.stpaul.ab.ca/event/senior-skating/2025-10-01/
LOCATION:A.G. Ross Arena\, 5326 51 Street\, Elk Point\, Alberta\, T0A 1A0\, Canada
CATEGORIES:Recreation
ATTACH;FMTTYPE=image/jpeg:https://s3.ca-central-1.amazonaws.com/oc-county.stpaul.ab.ca/wp-content/uploads/2026/01/26113521/AG-Ross-Events-Senior-Skating-2025-26.jpg
END:VEVENT
BEGIN:VEVENT
DTSTART;TZID=America/Edmonton:20251001T130000
DTEND;TZID=America/Edmonton:20251001T150000
DTSTAMP:20260422T064323
CREATED:20250730T145924Z
LAST-MODIFIED:20250730T145924Z
UID:10004703-1759323600-1759330800@www.county.stpaul.ab.ca
SUMMARY:Napewak Healing Together (Men’s Circle)
DESCRIPTION:Join Mannawanis for weekly healing circles — safe spaces for sharing\, support\, and community connection. \n\nThese circles offer a welcoming space for reflection\, healing\, and growth rooted in Indigenous teachings and community care. All are welcome.\n\n\nQuestions? Call 780-645-4630 and ask for Twila.
URL:https://www.county.stpaul.ab.ca/event/napewak-healing-together-mens-circle/2025-10-01/
LOCATION:Mannawanis Native Friendship Centre Society\, 4901 50 Street\, St. Paul\, Alberta\, T0A 3A4\, Canada
CATEGORIES:Community
ATTACH;FMTTYPE=image/jpeg:https://s3.ca-central-1.amazonaws.com/oc-county.stpaul.ab.ca/wp-content/uploads/2025/07/30085810/Mannawanis-Events-Mens-Healing-Circle-2025.jpg
END:VEVENT
BEGIN:VEVENT
DTSTART;TZID=America/Edmonton:20251001T133000
DTEND;TZID=America/Edmonton:20251001T150000
DTSTAMP:20260422T064323
CREATED:20260126T183118Z
LAST-MODIFIED:20260126T183118Z
UID:10007468-1759325400-1759330800@www.county.stpaul.ab.ca
SUMMARY:Parent & Kids Skating
DESCRIPTION:Free drop-in! \nTimes subject to change throughout the season\, check the Arena’s Facebook page.
URL:https://www.county.stpaul.ab.ca/event/parent-kids-skating/2025-10-01/
LOCATION:A.G. Ross Arena\, 5326 51 Street\, Elk Point\, Alberta\, T0A 1A0\, Canada
CATEGORIES:Recreation
ATTACH;FMTTYPE=image/jpeg:https://s3.ca-central-1.amazonaws.com/oc-county.stpaul.ab.ca/wp-content/uploads/2026/01/26112817/AG-Ross-Events-Parents-Kids-Skating-2025-26.jpg
END:VEVENT
BEGIN:VEVENT
DTSTART;TZID=America/Edmonton:20251001T133000
DTEND;TZID=America/Edmonton:20251001T153000
DTSTAMP:20260422T064323
CREATED:20241002T171815Z
LAST-MODIFIED:20250714T170050Z
UID:10004070-1759325400-1759332600@www.county.stpaul.ab.ca
SUMMARY:Employment Skills In-person Workshops
DESCRIPTION:Free\, in-person workshops to enhance your employment skills! \nRegister with St. Paul’s Lakeland Employment Services at 780-646-6729 or email ehilligas@employabilities.ca
URL:https://www.county.stpaul.ab.ca/event/employment-skills-in-person-workshops/2025-10-01/
LOCATION:Northstar Complex\, 2nd Floor\, 4701 50 Avenue\, St. Paul\, Alberta\, Canada
CATEGORIES:Business,Education
ATTACH;FMTTYPE=image/jpeg:https://s3.ca-central-1.amazonaws.com/oc-county.stpaul.ab.ca/wp-content/uploads/2024/10/14105238/LES-Events-In-Person-Workshops-2025.jpg
END:VEVENT
BEGIN:VEVENT
DTSTART;TZID=America/Edmonton:20251001T180000
DTEND;TZID=America/Edmonton:20251001T200000
DTSTAMP:20260422T064323
CREATED:20250930T172255Z
LAST-MODIFIED:20250930T172255Z
UID:10005085-1759341600-1759348800@www.county.stpaul.ab.ca
SUMMARY:Arts & Crafts with Cats!
DESCRIPTION:Enjoy an animal-themed paint night with some of the resident shelter cats! \nFor ages 13+\, $25/person. Supplies\, snacks\, and drinks provided!
URL:https://www.county.stpaul.ab.ca/event/arts-crafts-with-cats/
LOCATION:St. Paul Animal Shelter\, 58032 Range Road 105\, County of St. Paul\, Alberta\, Canada
CATEGORIES:Arts & Culture,Community
END:VEVENT
BEGIN:VEVENT
DTSTART;TZID=America/Edmonton:20251001T190000
DTEND;TZID=America/Edmonton:20251001T210000
DTSTAMP:20260422T064323
CREATED:20250917T220636Z
LAST-MODIFIED:20250919T155630Z
UID:10005082-1759345200-1759352400@www.county.stpaul.ab.ca
SUMMARY:Municipal Election Forum
DESCRIPTION:The Chamber of Commerce is organizing a Municipal Election Forum as an opportunity for the nominated County of St. Paul candidates to introduce themselves to residents and for residents to ask questions about candidate platforms.  The Chamber of Commerce will be contacting candidates directly. \nThis event is not organized by the County of St. Paul\, and the County does not endorse one candidate over another.
URL:https://www.county.stpaul.ab.ca/event/municipal-election-forum/
LOCATION:St. Paul Rec Centre
CATEGORIES:Meeting
END:VEVENT
END:VCALENDAR