BEGIN:VCALENDAR
VERSION:2.0
PRODID:-//County of St. Paul - ECPv6.15.17.1//NONSGML v1.0//EN
CALSCALE:GREGORIAN
METHOD:PUBLISH
X-WR-CALNAME:County of St. Paul
X-ORIGINAL-URL:https://www.county.stpaul.ab.ca
X-WR-CALDESC:Events for County of St. Paul
REFRESH-INTERVAL;VALUE=DURATION:PT1H
X-Robots-Tag:noindex
X-PUBLISHED-TTL:PT1H
BEGIN:VTIMEZONE
TZID:America/Edmonton
BEGIN:DAYLIGHT
TZOFFSETFROM:-0700
TZOFFSETTO:-0600
TZNAME:MDT
DTSTART:20240310T090000
END:DAYLIGHT
BEGIN:STANDARD
TZOFFSETFROM:-0600
TZOFFSETTO:-0700
TZNAME:MST
DTSTART:20241103T080000
END:STANDARD
BEGIN:DAYLIGHT
TZOFFSETFROM:-0700
TZOFFSETTO:-0600
TZNAME:MDT
DTSTART:20250309T090000
END:DAYLIGHT
BEGIN:STANDARD
TZOFFSETFROM:-0600
TZOFFSETTO:-0700
TZNAME:MST
DTSTART:20251102T080000
END:STANDARD
BEGIN:DAYLIGHT
TZOFFSETFROM:-0700
TZOFFSETTO:-0600
TZNAME:MDT
DTSTART:20260308T090000
END:DAYLIGHT
BEGIN:STANDARD
TZOFFSETFROM:-0600
TZOFFSETTO:-0700
TZNAME:MST
DTSTART:20261101T080000
END:STANDARD
END:VTIMEZONE
BEGIN:VEVENT
DTSTART;TZID=America/Edmonton:20251204T080000
DTEND;TZID=America/Edmonton:20251204T170000
DTSTAMP:20260423T042746
CREATED:20251208T175803Z
LAST-MODIFIED:20251208T175803Z
UID:10005432-1764835200-1764867600@www.county.stpaul.ab.ca
SUMMARY:Gingerbread Contest
DESCRIPTION:An online contest for ages 13-21 to show off their most creative\, festive\, or funny gingerbread houses and cookies! \nPost your creation and tag @SPYC20 on Instagram or email your photo to fcssyouth@town.stpaul.ab.ca
URL:https://www.county.stpaul.ab.ca/event/gingerbread-contest/2025-12-04/
LOCATION:Online
CATEGORIES:Holiday,Youth
END:VEVENT
BEGIN:VEVENT
DTSTART;TZID=America/Edmonton:20251204T100000
DTEND;TZID=America/Edmonton:20251204T120000
DTSTAMP:20260423T042746
CREATED:20240604T171452Z
LAST-MODIFIED:20251203T181835Z
UID:10001146-1764842400-1764849600@www.county.stpaul.ab.ca
SUMMARY:Little Chefs
DESCRIPTION:For ages 0-6 to practice their fine motor skills\, all while making yummy treats! \nFREE event\, call 780-645-5311 to register.
URL:https://www.county.stpaul.ab.ca/event/little-chefs/
LOCATION:St. Paul Regional FCSS Office\, 5002 51 Avenue\, St. Paul\, Alberta\, T0A 3A1\, Canada
CATEGORIES:Youth
END:VEVENT
BEGIN:VEVENT
DTSTART;TZID=America/Edmonton:20251204T120000
DTEND;TZID=America/Edmonton:20251204T170000
DTSTAMP:20260423T042746
CREATED:20250403T170912Z
LAST-MODIFIED:20250714T174708Z
UID:10003065-1764849600-1764867600@www.county.stpaul.ab.ca
SUMMARY:Elk Point Farmers' Market
DESCRIPTION:Contact Patty Jeffery to book a table at 780-819-7826.
URL:https://www.county.stpaul.ab.ca/event/elk-point-farmers-market/2025-12-04/
LOCATION:Elk Point Allied Arts Centre\, 4605 57 Avenue\, Elk Point\, Alberta\, Canada
CATEGORIES:Community
ATTACH;FMTTYPE=image/jpeg:https://s3.ca-central-1.amazonaws.com/oc-county.stpaul.ab.ca/wp-content/uploads/2025/04/14114635/Elk-Point-Allied-Arts-Events-2025-Farmers-Market.jpg
END:VEVENT
BEGIN:VEVENT
DTSTART;TZID=America/Edmonton:20251204T133000
DTEND;TZID=America/Edmonton:20251204T140000
DTSTAMP:20260423T042746
CREATED:20250711T155455Z
LAST-MODIFIED:20250711T160424Z
UID:10003995-1764855000-1764856800@www.county.stpaul.ab.ca
SUMMARY:Urban Poling in Elk Point
DESCRIPTION:Connect\, get outdoors\, and walk your way to better health\, every Thursday in Elk Point. \nParticipants will meet at the Regional FCSS office (4906 48 Street) at 1:30 p.m. before heading out on an urban poling journey! \nAll participants may register each week for FREE at 780-724-3800.
URL:https://www.county.stpaul.ab.ca/event/urban-poling-in-elk-point-2/2025-12-04/
LOCATION:Elk Point Regional FCSS Office\, 4906A 48 Street\, Elk Point\, Alberta\, Canada
CATEGORIES:Lifestyle and Health,Recreation
END:VEVENT
BEGIN:VEVENT
DTSTART;TZID=America/Edmonton:20251204T140000
DTEND;TZID=America/Edmonton:20251204T153000
DTSTAMP:20260423T042746
CREATED:20240904T174548Z
LAST-MODIFIED:20251203T183130Z
UID:10005324-1764856800-1764862200@www.county.stpaul.ab.ca
SUMMARY:Home School Hangout
DESCRIPTION:An opportunity for youth ages 6+ to meet\, interact\, and develop socialization skills. \nFREE to attend\, call 780-724-3800 to register.
URL:https://www.county.stpaul.ab.ca/event/home-school-hangout/
LOCATION:Elk Point Regional FCSS Office\, 4906A 48 Street\, Elk Point\, Alberta\, Canada
CATEGORIES:Youth
END:VEVENT
BEGIN:VEVENT
DTSTART;TZID=America/Edmonton:20251204T173000
DTEND;TZID=America/Edmonton:20251204T180000
DTSTAMP:20260423T042746
CREATED:20250818T210839Z
LAST-MODIFIED:20250818T210839Z
UID:10005024-1764869400-1764871200@www.county.stpaul.ab.ca
SUMMARY:Tot and Me Dance
DESCRIPTION:Explore rhythm\, music\, and creative movement with your child! \nFor ages 3.5-6\, caregiver must be in attendance. Register as a sessional or for the full year.
URL:https://www.county.stpaul.ab.ca/event/tot-and-me-dance/2025-12-04/
LOCATION:St. Paul & District Arts Foundation\, 4822 50 Avenue\, St. Paul\, Alberta\, T0A 3A0\, Canada
CATEGORIES:Youth
ATTACH;FMTTYPE=image/jpeg:https://s3.ca-central-1.amazonaws.com/oc-county.stpaul.ab.ca/wp-content/uploads/2025/08/18150626/St.-Paul-Arts-Events-Tot-and-Me-Dance-2025-2026.jpg
END:VEVENT
BEGIN:VEVENT
DTSTART;TZID=America/Edmonton:20251204T183000
DTEND;TZID=America/Edmonton:20251204T203000
DTSTAMP:20260423T042746
CREATED:20251118T164604Z
LAST-MODIFIED:20251118T164604Z
UID:10005387-1764873000-1764880200@www.county.stpaul.ab.ca
SUMMARY:Christmas Planter Class
DESCRIPTION:Enjoy a festive evening creating a 10″ live planter with Owlseye Greenhouse. \n$80/person\, for ages 18+. Includes all supplies and a glass of wine! \nRSVP with Lisa at 780-210-0584 or email lisaldunlop@gmail.com
URL:https://www.county.stpaul.ab.ca/event/christmas-planter-class/
LOCATION:Boscombe Hall\, Alberta\, Canada
CATEGORIES:Community,Holiday
END:VEVENT
END:VCALENDAR