BEGIN:VCALENDAR
VERSION:2.0
PRODID:-//County of St. Paul - ECPv6.15.17.1//NONSGML v1.0//EN
CALSCALE:GREGORIAN
METHOD:PUBLISH
X-ORIGINAL-URL:https://www.county.stpaul.ab.ca
X-WR-CALDESC:Events for County of St. Paul
REFRESH-INTERVAL;VALUE=DURATION:PT1H
X-Robots-Tag:noindex
X-PUBLISHED-TTL:PT1H
BEGIN:VTIMEZONE
TZID:America/Edmonton
BEGIN:DAYLIGHT
TZOFFSETFROM:-0700
TZOFFSETTO:-0600
TZNAME:MDT
DTSTART:20250309T090000
END:DAYLIGHT
BEGIN:STANDARD
TZOFFSETFROM:-0600
TZOFFSETTO:-0700
TZNAME:MST
DTSTART:20251102T080000
END:STANDARD
BEGIN:DAYLIGHT
TZOFFSETFROM:-0700
TZOFFSETTO:-0600
TZNAME:MDT
DTSTART:20260308T090000
END:DAYLIGHT
BEGIN:STANDARD
TZOFFSETFROM:-0600
TZOFFSETTO:-0700
TZNAME:MST
DTSTART:20261101T080000
END:STANDARD
BEGIN:DAYLIGHT
TZOFFSETFROM:-0700
TZOFFSETTO:-0600
TZNAME:MDT
DTSTART:20270314T090000
END:DAYLIGHT
BEGIN:STANDARD
TZOFFSETFROM:-0600
TZOFFSETTO:-0700
TZNAME:MST
DTSTART:20271107T080000
END:STANDARD
END:VTIMEZONE
BEGIN:VEVENT
DTSTART;TZID=America/Edmonton:20260122T120000
DTEND;TZID=America/Edmonton:20260122T170000
DTSTAMP:20260419T071630
CREATED:20250403T170912Z
LAST-MODIFIED:20250714T174708Z
UID:10003072-1769083200-1769101200@www.county.stpaul.ab.ca
SUMMARY:Elk Point Farmers' Market
DESCRIPTION:Contact Patty Jeffery to book a table at 780-819-7826.
URL:https://www.county.stpaul.ab.ca/event/elk-point-farmers-market/2026-01-22/
LOCATION:Elk Point Allied Arts Centre\, 4605 57 Avenue\, Elk Point\, Alberta\, Canada
CATEGORIES:Community
ATTACH;FMTTYPE=image/jpeg:https://s3.ca-central-1.amazonaws.com/oc-county.stpaul.ab.ca/wp-content/uploads/2025/04/14114635/Elk-Point-Allied-Arts-Events-2025-Farmers-Market.jpg
END:VEVENT
BEGIN:VEVENT
DTSTART;TZID=America/Edmonton:20260122T133000
DTEND;TZID=America/Edmonton:20260122T140000
DTSTAMP:20260419T071630
CREATED:20250711T155455Z
LAST-MODIFIED:20250711T160424Z
UID:10004002-1769088600-1769090400@www.county.stpaul.ab.ca
SUMMARY:Urban Poling in Elk Point
DESCRIPTION:Connect\, get outdoors\, and walk your way to better health\, every Thursday in Elk Point. \nParticipants will meet at the Regional FCSS office (4906 48 Street) at 1:30 p.m. before heading out on an urban poling journey! \nAll participants may register each week for FREE at 780-724-3800.
URL:https://www.county.stpaul.ab.ca/event/urban-poling-in-elk-point-2/2026-01-22/
LOCATION:Elk Point Regional FCSS Office\, 4906A 48 Street\, Elk Point\, Alberta\, Canada
CATEGORIES:Lifestyle and Health,Recreation
END:VEVENT
BEGIN:VEVENT
DTSTART;TZID=America/Edmonton:20260122T173000
DTEND;TZID=America/Edmonton:20260122T180000
DTSTAMP:20260419T071630
CREATED:20250818T210839Z
LAST-MODIFIED:20250818T210839Z
UID:10005031-1769103000-1769104800@www.county.stpaul.ab.ca
SUMMARY:Tot and Me Dance
DESCRIPTION:Explore rhythm\, music\, and creative movement with your child! \nFor ages 3.5-6\, caregiver must be in attendance. Register as a sessional or for the full year.
URL:https://www.county.stpaul.ab.ca/event/tot-and-me-dance/2026-01-22/
LOCATION:St. Paul & District Arts Foundation\, 4822 50 Avenue\, St. Paul\, Alberta\, T0A 3A0\, Canada
CATEGORIES:Youth
ATTACH;FMTTYPE=image/jpeg:https://s3.ca-central-1.amazonaws.com/oc-county.stpaul.ab.ca/wp-content/uploads/2025/08/18150626/St.-Paul-Arts-Events-Tot-and-Me-Dance-2025-2026.jpg
END:VEVENT
END:VCALENDAR