BEGIN:VCALENDAR
VERSION:2.0
PRODID:-//County of St. Paul - ECPv6.15.17.1//NONSGML v1.0//EN
CALSCALE:GREGORIAN
METHOD:PUBLISH
X-WR-CALNAME:County of St. Paul
X-ORIGINAL-URL:https://www.county.stpaul.ab.ca
X-WR-CALDESC:Events for County of St. Paul
REFRESH-INTERVAL;VALUE=DURATION:PT1H
X-Robots-Tag:noindex
X-PUBLISHED-TTL:PT1H
BEGIN:VTIMEZONE
TZID:America/Edmonton
BEGIN:DAYLIGHT
TZOFFSETFROM:-0700
TZOFFSETTO:-0600
TZNAME:MDT
DTSTART:20250309T090000
END:DAYLIGHT
BEGIN:STANDARD
TZOFFSETFROM:-0600
TZOFFSETTO:-0700
TZNAME:MST
DTSTART:20251102T080000
END:STANDARD
BEGIN:DAYLIGHT
TZOFFSETFROM:-0700
TZOFFSETTO:-0600
TZNAME:MDT
DTSTART:20260308T090000
END:DAYLIGHT
BEGIN:STANDARD
TZOFFSETFROM:-0600
TZOFFSETTO:-0700
TZNAME:MST
DTSTART:20261101T080000
END:STANDARD
BEGIN:DAYLIGHT
TZOFFSETFROM:-0700
TZOFFSETTO:-0600
TZNAME:MDT
DTSTART:20270314T090000
END:DAYLIGHT
BEGIN:STANDARD
TZOFFSETFROM:-0600
TZOFFSETTO:-0700
TZNAME:MST
DTSTART:20271107T080000
END:STANDARD
END:VTIMEZONE
BEGIN:VEVENT
DTSTART;TZID=America/Edmonton:20260306T083000
DTEND;TZID=America/Edmonton:20260306T163000
DTSTAMP:20260422T023721
CREATED:20250107T164926Z
LAST-MODIFIED:20260306T183425Z
UID:10007585-1772785800-1772814600@www.county.stpaul.ab.ca
SUMMARY:FCSS Free Tax Clinic
DESCRIPTION:Helping low income individuals\, families\, and seniors complete their basic tax returns with a modest income (single income under $40\,000 or family income under $55\,000; threshold increases $5\,000 per child for family income). \nOnce you have all of your tax documents\, visit the St. Paul or Elk Point FCSS offices with your papers and valid identification. \nCall the St. Paul office (780-645-5311) or Elk Point office (780-724-3800) for more information. Closed from 12:30-1:30 p.m. for lunch.
URL:https://www.county.stpaul.ab.ca/event/fcss-free-tax-clinic/2026-03-06/
CATEGORIES:Community
ATTACH;FMTTYPE=image/jpeg:https://s3.ca-central-1.amazonaws.com/oc-county.stpaul.ab.ca/wp-content/uploads/2025/01/06112532/FCSS-Events-Tax-Time-202603-04.jpg
END:VEVENT
BEGIN:VEVENT
DTSTART;TZID=America/Edmonton:20260306T083000
DTEND;TZID=America/Edmonton:20260306T163000
DTSTAMP:20260422T023721
CREATED:20260227T163037Z
LAST-MODIFIED:20260227T163037Z
UID:10007573-1772785800-1772814600@www.county.stpaul.ab.ca
SUMMARY:A Taste of St. Paul Registration
DESCRIPTION:Inviting individuals\, families\, cultural groups\, and organizations to host a table representing a country or culture\, at Taste of St. Paul in the St. Paul Library on March 18! \nTables should provided approximately 200 sample-size portions of a traditional food item and can share culture through decorations\, photos\, flags\, or stories. \nOne table per culture\, registration is first come\, first served. Tables\, chairs\, and event promotion provided. Reimbursement for food supplies may be available upon receipt. \nRegister with Edna Gervais by calling 780-210-5104 or emailing edna.gervais@portagecollege.ca \n 
URL:https://www.county.stpaul.ab.ca/event/a-taste-of-st-paul-registration/
CATEGORIES:Arts & Culture
END:VEVENT
BEGIN:VEVENT
DTSTART;TZID=America/Edmonton:20260306T150000
DTEND;TZID=America/Edmonton:20260306T190000
DTSTAMP:20260422T023721
CREATED:20260224T230341Z
LAST-MODIFIED:20260224T230341Z
UID:10007567-1772809200-1772823600@www.county.stpaul.ab.ca
SUMMARY:Exhibit: The Baddie Basics
DESCRIPTION:Celebrate Indigenous creativity\, culture\, and storytelling through fashion and design. This exhibit highlights the artistry and innovation of Indigenous designers\, honoring tradition while embracing contemporary expression. Join us in supporting and uplifting Indigenous voices within our community. \nMake sure to also come to the exhibit opening on March 2 from 5-7 p.m.!
URL:https://www.county.stpaul.ab.ca/event/exhibit-the-baddie-basics/2026-03-06/
LOCATION:St. Paul & District Arts Foundation\, 4822 50 Avenue\, St. Paul\, Alberta\, T0A 3A0\, Canada
CATEGORIES:Arts & Culture
ATTACH;FMTTYPE=image/jpeg:https://s3.ca-central-1.amazonaws.com/oc-county.stpaul.ab.ca/wp-content/uploads/2026/02/24160234/St.-Paul-Arts-Events-Indigenous-Exhibition-202603.jpg
END:VEVENT
BEGIN:VEVENT
DTSTART;TZID=America/Edmonton:20260306T180000
DTEND;TZID=America/Edmonton:20260306T210000
DTSTAMP:20260422T023721
CREATED:20240402T160303Z
LAST-MODIFIED:20260124T001321Z
UID:10007440-1772820000-1772830800@www.county.stpaul.ab.ca
SUMMARY:Library After Dark: Adult Boardgame Night
DESCRIPTION:For ages 18+! Registration is required for this event\, due to it taking place after the library’s regular hours. \nThis event can be registered for under the ‘Programs’ tab on the St. Paul Library website or email programs@stpaullibrary.ab.ca
URL:https://www.county.stpaul.ab.ca/event/library-after-dark-adult-boardgame-night/2026-03-06/
LOCATION:St. Paul Municipal Library\, 4802 53 Street\, Saint Paul\, Alberta\, T0A 3A4\, Canada
CATEGORIES:Recreation
ATTACH;FMTTYPE=image/jpeg:https://s3.ca-central-1.amazonaws.com/oc-county.stpaul.ab.ca/wp-content/uploads/2024/04/31162947/St.-Paul-Library-Events-Adult-Boardgame-Night-2025.jpg
END:VEVENT
END:VCALENDAR