BEGIN:VCALENDAR
VERSION:2.0
PRODID:-//County of St. Paul - ECPv6.15.17.1//NONSGML v1.0//EN
CALSCALE:GREGORIAN
METHOD:PUBLISH
X-WR-CALNAME:County of St. Paul
X-ORIGINAL-URL:https://www.county.stpaul.ab.ca
X-WR-CALDESC:Events for County of St. Paul
REFRESH-INTERVAL;VALUE=DURATION:PT1H
X-Robots-Tag:noindex
X-PUBLISHED-TTL:PT1H
BEGIN:VTIMEZONE
TZID:America/Edmonton
BEGIN:DAYLIGHT
TZOFFSETFROM:-0700
TZOFFSETTO:-0600
TZNAME:MDT
DTSTART:20250309T090000
END:DAYLIGHT
BEGIN:STANDARD
TZOFFSETFROM:-0600
TZOFFSETTO:-0700
TZNAME:MST
DTSTART:20251102T080000
END:STANDARD
BEGIN:DAYLIGHT
TZOFFSETFROM:-0700
TZOFFSETTO:-0600
TZNAME:MDT
DTSTART:20260308T090000
END:DAYLIGHT
BEGIN:STANDARD
TZOFFSETFROM:-0600
TZOFFSETTO:-0700
TZNAME:MST
DTSTART:20261101T080000
END:STANDARD
BEGIN:DAYLIGHT
TZOFFSETFROM:-0700
TZOFFSETTO:-0600
TZNAME:MDT
DTSTART:20270314T090000
END:DAYLIGHT
BEGIN:STANDARD
TZOFFSETFROM:-0600
TZOFFSETTO:-0700
TZNAME:MST
DTSTART:20271107T080000
END:STANDARD
END:VTIMEZONE
BEGIN:VEVENT
DTSTART;TZID=America/Edmonton:20260310T083000
DTEND;TZID=America/Edmonton:20260310T163000
DTSTAMP:20260420T040937
CREATED:20250107T164926Z
LAST-MODIFIED:20260306T183425Z
UID:10007589-1773131400-1773160200@www.county.stpaul.ab.ca
SUMMARY:FCSS Free Tax Clinic
DESCRIPTION:Helping low income individuals\, families\, and seniors complete their basic tax returns with a modest income (single income under $40\,000 or family income under $55\,000; threshold increases $5\,000 per child for family income). \nOnce you have all of your tax documents\, visit the St. Paul or Elk Point FCSS offices with your papers and valid identification. \nCall the St. Paul office (780-645-5311) or Elk Point office (780-724-3800) for more information. Closed from 12:30-1:30 p.m. for lunch.
URL:https://www.county.stpaul.ab.ca/event/fcss-free-tax-clinic/2026-03-10/
CATEGORIES:Community
ATTACH;FMTTYPE=image/jpeg:https://s3.ca-central-1.amazonaws.com/oc-county.stpaul.ab.ca/wp-content/uploads/2025/01/06112532/FCSS-Events-Tax-Time-202603-04.jpg
END:VEVENT
BEGIN:VEVENT
DTSTART;TZID=America/Edmonton:20260310T100000
DTEND;TZID=America/Edmonton:20260310T110000
DTSTAMP:20260420T040937
CREATED:20231228T182158Z
LAST-MODIFIED:20260113T163719Z
UID:10007351-1773136800-1773140400@www.county.stpaul.ab.ca
SUMMARY:Interagency Connection in St. Paul
DESCRIPTION:Join FCSS for an Interagency Connection in the St. Paul Regional FCSS Office. \nMembers of the St. Paul Interagency include representatives from different local non-profit human services organizations and agencies that meet to communicate about services and issues in our community.
URL:https://www.county.stpaul.ab.ca/event/interagency-connection-in-st-paul/2026-03-10/
LOCATION:St. Paul Regional FCSS Office\, 5002 51 Avenue\, St. Paul\, Alberta\, T0A 3A1\, Canada
CATEGORIES:Community,Meeting
ATTACH;FMTTYPE=image/jpeg:https://s3.ca-central-1.amazonaws.com/oc-county.stpaul.ab.ca/wp-content/uploads/2023/12/13093648/FCSS-Events-2026-Interagency.jpg
END:VEVENT
BEGIN:VEVENT
DTSTART;TZID=America/Edmonton:20260310T130000
DTEND;TZID=America/Edmonton:20260310T150000
DTSTAMP:20260420T040937
CREATED:20250306T180635Z
LAST-MODIFIED:20260123T235223Z
UID:10007428-1773147600-1773154800@www.county.stpaul.ab.ca
SUMMARY:Brain Injury Survivors Support Group
DESCRIPTION:For community members who have an acquired brain injury and are looking to make supportive connections. \nZoom in on the 2nd Tuesday of the month. Email kcameron@spanet.ab.ca for the link.
URL:https://www.county.stpaul.ab.ca/event/brain-injury-survivors-support-group/2026-03-10/
LOCATION:Online
CATEGORIES:Community
ATTACH;FMTTYPE=image/jpeg:https://s3.ca-central-1.amazonaws.com/oc-county.stpaul.ab.ca/wp-content/uploads/2025/03/23165123/SPANET-Events-Brain-Injury-Support-2026.jpg
END:VEVENT
BEGIN:VEVENT
DTSTART;TZID=America/Edmonton:20260310T130000
DTEND;TZID=America/Edmonton:20260310T150000
DTSTAMP:20260420T040937
CREATED:20250730T145458Z
LAST-MODIFIED:20250811T192919Z
UID:10004464-1773147600-1773154800@www.county.stpaul.ab.ca
SUMMARY:Iskwewak Healing Together (Women’s Circle)
DESCRIPTION:Join Mannawanis for weekly healing circles — safe spaces for sharing\, support\, and community connection. \n\nThese circles offer a welcoming space for reflection\, healing\, and growth rooted in Indigenous teachings and community care. All are welcome.\n\n\nQuestions? Call 780-645-4630 and ask for Twila.
URL:https://www.county.stpaul.ab.ca/event/iskwewak-healing-together-womens-circle/2026-03-10/
LOCATION:Mannawanis Native Friendship Centre Society\, 4901 50 Street\, St. Paul\, Alberta\, T0A 3A4\, Canada
CATEGORIES:Community
ATTACH;FMTTYPE=image/jpeg:https://s3.ca-central-1.amazonaws.com/oc-county.stpaul.ab.ca/wp-content/uploads/2025/07/11132813/Mannawanis-Events-Womens-Healing-Circle-2025R.jpg
END:VEVENT
BEGIN:VEVENT
DTSTART;TZID=America/Edmonton:20260310T150000
DTEND;TZID=America/Edmonton:20260310T190000
DTSTAMP:20260420T040937
CREATED:20260224T230341Z
LAST-MODIFIED:20260224T230341Z
UID:10007568-1773154800-1773169200@www.county.stpaul.ab.ca
SUMMARY:Exhibit: The Baddie Basics
DESCRIPTION:Celebrate Indigenous creativity\, culture\, and storytelling through fashion and design. This exhibit highlights the artistry and innovation of Indigenous designers\, honoring tradition while embracing contemporary expression. Join us in supporting and uplifting Indigenous voices within our community. \nMake sure to also come to the exhibit opening on March 2 from 5-7 p.m.!
URL:https://www.county.stpaul.ab.ca/event/exhibit-the-baddie-basics/2026-03-10/
LOCATION:St. Paul & District Arts Foundation\, 4822 50 Avenue\, St. Paul\, Alberta\, T0A 3A0\, Canada
CATEGORIES:Arts & Culture
ATTACH;FMTTYPE=image/jpeg:https://s3.ca-central-1.amazonaws.com/oc-county.stpaul.ab.ca/wp-content/uploads/2026/02/24160234/St.-Paul-Arts-Events-Indigenous-Exhibition-202603.jpg
END:VEVENT
END:VCALENDAR