BEGIN:VCALENDAR
VERSION:2.0
PRODID:-//County of St. Paul - ECPv6.15.17.1//NONSGML v1.0//EN
CALSCALE:GREGORIAN
METHOD:PUBLISH
X-ORIGINAL-URL:https://www.county.stpaul.ab.ca
X-WR-CALDESC:Events for County of St. Paul
REFRESH-INTERVAL;VALUE=DURATION:PT1H
X-Robots-Tag:noindex
X-PUBLISHED-TTL:PT1H
BEGIN:VTIMEZONE
TZID:America/Edmonton
BEGIN:DAYLIGHT
TZOFFSETFROM:-0700
TZOFFSETTO:-0600
TZNAME:MDT
DTSTART:20250309T090000
END:DAYLIGHT
BEGIN:STANDARD
TZOFFSETFROM:-0600
TZOFFSETTO:-0700
TZNAME:MST
DTSTART:20251102T080000
END:STANDARD
BEGIN:DAYLIGHT
TZOFFSETFROM:-0700
TZOFFSETTO:-0600
TZNAME:MDT
DTSTART:20260308T090000
END:DAYLIGHT
BEGIN:STANDARD
TZOFFSETFROM:-0600
TZOFFSETTO:-0700
TZNAME:MST
DTSTART:20261101T080000
END:STANDARD
BEGIN:DAYLIGHT
TZOFFSETFROM:-0700
TZOFFSETTO:-0600
TZNAME:MDT
DTSTART:20270314T090000
END:DAYLIGHT
BEGIN:STANDARD
TZOFFSETFROM:-0600
TZOFFSETTO:-0700
TZNAME:MST
DTSTART:20271107T080000
END:STANDARD
END:VTIMEZONE
BEGIN:VEVENT
DTSTART;TZID=America/Edmonton:20260418T083000
DTEND;TZID=America/Edmonton:20260418T163000
DTSTAMP:20260421T005957
CREATED:20250107T164926Z
LAST-MODIFIED:20260306T183425Z
UID:10007628-1776501000-1776529800@www.county.stpaul.ab.ca
SUMMARY:FCSS Free Tax Clinic
DESCRIPTION:Helping low income individuals\, families\, and seniors complete their basic tax returns with a modest income (single income under $40\,000 or family income under $55\,000; threshold increases $5\,000 per child for family income). \nOnce you have all of your tax documents\, visit the St. Paul or Elk Point FCSS offices with your papers and valid identification. \nCall the St. Paul office (780-645-5311) or Elk Point office (780-724-3800) for more information. Closed from 12:30-1:30 p.m. for lunch.
URL:https://www.county.stpaul.ab.ca/event/fcss-free-tax-clinic/2026-04-18/
CATEGORIES:Community
ATTACH;FMTTYPE=image/jpeg:https://s3.ca-central-1.amazonaws.com/oc-county.stpaul.ab.ca/wp-content/uploads/2025/01/06112532/FCSS-Events-Tax-Time-202603-04.jpg
END:VEVENT
BEGIN:VEVENT
DTSTART;TZID=America/Edmonton:20260418T101500
DTEND;TZID=America/Edmonton:20260418T110000
DTSTAMP:20260421T005957
CREATED:20260410T151653Z
LAST-MODIFIED:20260410T151653Z
UID:10007693-1776507300-1776510000@www.county.stpaul.ab.ca
SUMMARY:Tente de Lecture
DESCRIPTION:Listen to a story in the Reading Tent and discover all kinds of books\, in French and in English. \nRegistration not required.
URL:https://www.county.stpaul.ab.ca/event/tente-de-lecture/2026-04-18/1/
LOCATION:St. Paul Municipal Library\, 4802 53 Street\, Saint Paul\, Alberta\, T0A 3A4\, Canada
CATEGORIES:Youth
ATTACH;FMTTYPE=image/png:https://s3.ca-central-1.amazonaws.com/oc-county.stpaul.ab.ca/wp-content/uploads/2026/04/10091612/St.-Paul-Library-Events-Reading-Tent-20260418.png
END:VEVENT
BEGIN:VEVENT
DTSTART;TZID=America/Edmonton:20260418T103000
DTEND;TZID=America/Edmonton:20260418T143000
DTSTAMP:20260421T005957
CREATED:20251204T181140Z
LAST-MODIFIED:20260410T143340Z
UID:10005401-1776508200-1776522600@www.county.stpaul.ab.ca
SUMMARY:Ornament Painting
DESCRIPTION:Fun for the whole family! \nDrop in\, pick up and paint an ornament. One per participant
URL:https://www.county.stpaul.ab.ca/event/ornament-painting/
LOCATION:St. Paul Municipal Library\, 4802 53 Street\, Saint Paul\, Alberta\, T0A 3A4\, Canada
CATEGORIES:Community,Holiday
ATTACH;FMTTYPE=image/png:https://s3.ca-central-1.amazonaws.com/oc-county.stpaul.ab.ca/wp-content/uploads/2025/12/10083128/St.-Paul-Library-Events-Ornament-Painting-20260418.png
END:VEVENT
BEGIN:VEVENT
DTSTART;TZID=America/Edmonton:20260418T111500
DTEND;TZID=America/Edmonton:20260418T120000
DTSTAMP:20260421T005957
CREATED:20260410T151653Z
LAST-MODIFIED:20260410T151653Z
UID:10007694-1776510900-1776513600@www.county.stpaul.ab.ca
SUMMARY:Tente de Lecture
DESCRIPTION:Listen to a story in the Reading Tent and discover all kinds of books\, in French and in English. \nRegistration not required.
URL:https://www.county.stpaul.ab.ca/event/tente-de-lecture/2026-04-18/2/
LOCATION:St. Paul Municipal Library\, 4802 53 Street\, Saint Paul\, Alberta\, T0A 3A4\, Canada
CATEGORIES:Youth
ATTACH;FMTTYPE=image/png:https://s3.ca-central-1.amazonaws.com/oc-county.stpaul.ab.ca/wp-content/uploads/2026/04/10091612/St.-Paul-Library-Events-Reading-Tent-20260418.png
END:VEVENT
BEGIN:VEVENT
DTSTART;TZID=America/Edmonton:20260418T120000
DTEND;TZID=America/Edmonton:20260418T130000
DTSTAMP:20260421T005957
CREATED:20260408T205225Z
LAST-MODIFIED:20260408T205225Z
UID:10007669-1776513600-1776517200@www.county.stpaul.ab.ca
SUMMARY:Emerging Artist Showcase
DESCRIPTION:From idea to presentation — eight months of growth\, collaboration\, and creative discovery come to life. Local emerging artists will showcase their final projects developed through the Break//Through program\, highlighting the talent and vision thriving in rural Alberta.
URL:https://www.county.stpaul.ab.ca/event/emerging-artist-showcase/
LOCATION:Ukrainian Centre\, 5601 51 Street\, St. Paul\, Alberta\, T0A 3A0\, Canada
CATEGORIES:Arts & Culture,Community
ATTACH;FMTTYPE=image/jpeg:https://s3.ca-central-1.amazonaws.com/oc-county.stpaul.ab.ca/wp-content/uploads/2026/04/08145148/St.-Paul-Arts-Events-Emerging-Artist-Showcase-20260418.jpg
END:VEVENT
BEGIN:VEVENT
DTSTART;TZID=America/Edmonton:20260418T121500
DTEND;TZID=America/Edmonton:20260418T130000
DTSTAMP:20260421T005957
CREATED:20260410T151653Z
LAST-MODIFIED:20260410T151653Z
UID:10007695-1776514500-1776517200@www.county.stpaul.ab.ca
SUMMARY:Tente de Lecture
DESCRIPTION:Listen to a story in the Reading Tent and discover all kinds of books\, in French and in English. \nRegistration not required.
URL:https://www.county.stpaul.ab.ca/event/tente-de-lecture/2026-04-18/3/
LOCATION:St. Paul Municipal Library\, 4802 53 Street\, Saint Paul\, Alberta\, T0A 3A4\, Canada
CATEGORIES:Youth
ATTACH;FMTTYPE=image/png:https://s3.ca-central-1.amazonaws.com/oc-county.stpaul.ab.ca/wp-content/uploads/2026/04/10091612/St.-Paul-Library-Events-Reading-Tent-20260418.png
END:VEVENT
BEGIN:VEVENT
DTSTART;TZID=America/Edmonton:20260418T133000
DTEND;TZID=America/Edmonton:20260418T170000
DTSTAMP:20260421T005957
CREATED:20260408T204905Z
LAST-MODIFIED:20260408T204905Z
UID:10007668-1776519000-1776531600@www.county.stpaul.ab.ca
SUMMARY:Festival of the Arts
DESCRIPTION:Celebrating local artists! \nAdmission is $10 for students and seniors\, $15 for adults. Ages 4 and under are free!
URL:https://www.county.stpaul.ab.ca/event/festival-of-the-arts/
LOCATION:Ukrainian Centre\, 5601 51 Street\, St. Paul\, Alberta\, T0A 3A0\, Canada
CATEGORIES:Arts & Culture,Community
ATTACH;FMTTYPE=image/png:https://s3.ca-central-1.amazonaws.com/oc-county.stpaul.ab.ca/wp-content/uploads/2026/04/08144827/St.-Paul-Arts-Events-Festival-of-the-Arts-20260418.png
END:VEVENT
END:VCALENDAR