BEGIN:VCALENDAR
VERSION:2.0
PRODID:-//County of St. Paul - ECPv6.15.17.1//NONSGML v1.0//EN
CALSCALE:GREGORIAN
METHOD:PUBLISH
X-WR-CALNAME:County of St. Paul
X-ORIGINAL-URL:https://www.county.stpaul.ab.ca
X-WR-CALDESC:Events for County of St. Paul
REFRESH-INTERVAL;VALUE=DURATION:PT1H
X-Robots-Tag:noindex
X-PUBLISHED-TTL:PT1H
BEGIN:VTIMEZONE
TZID:America/Edmonton
BEGIN:DAYLIGHT
TZOFFSETFROM:-0700
TZOFFSETTO:-0600
TZNAME:MDT
DTSTART:20250309T090000
END:DAYLIGHT
BEGIN:STANDARD
TZOFFSETFROM:-0600
TZOFFSETTO:-0700
TZNAME:MST
DTSTART:20251102T080000
END:STANDARD
BEGIN:DAYLIGHT
TZOFFSETFROM:-0700
TZOFFSETTO:-0600
TZNAME:MDT
DTSTART:20260308T090000
END:DAYLIGHT
BEGIN:STANDARD
TZOFFSETFROM:-0600
TZOFFSETTO:-0700
TZNAME:MST
DTSTART:20261101T080000
END:STANDARD
BEGIN:DAYLIGHT
TZOFFSETFROM:-0700
TZOFFSETTO:-0600
TZNAME:MDT
DTSTART:20270314T090000
END:DAYLIGHT
BEGIN:STANDARD
TZOFFSETFROM:-0600
TZOFFSETTO:-0700
TZNAME:MST
DTSTART:20271107T080000
END:STANDARD
END:VTIMEZONE
BEGIN:VEVENT
DTSTART;TZID=America/Edmonton:20260501T180000
DTEND;TZID=America/Edmonton:20260501T210000
DTSTAMP:20260423T041207
CREATED:20240402T160303Z
LAST-MODIFIED:20260124T001321Z
UID:10007442-1777658400-1777669200@www.county.stpaul.ab.ca
SUMMARY:Library After Dark: Adult Boardgame Night
DESCRIPTION:For ages 18+! Registration is required for this event\, due to it taking place after the library’s regular hours. \nThis event can be registered for under the ‘Programs’ tab on the St. Paul Library website or email programs@stpaullibrary.ab.ca
URL:https://www.county.stpaul.ab.ca/event/library-after-dark-adult-boardgame-night/2026-05-01/
LOCATION:St. Paul Municipal Library\, 4802 53 Street\, Saint Paul\, Alberta\, T0A 3A4\, Canada
CATEGORIES:Recreation
ATTACH;FMTTYPE=image/jpeg:https://s3.ca-central-1.amazonaws.com/oc-county.stpaul.ab.ca/wp-content/uploads/2024/04/31162947/St.-Paul-Library-Events-Adult-Boardgame-Night-2025.jpg
END:VEVENT
BEGIN:VEVENT
DTSTART;TZID=America/Edmonton:20260502T100000
DTEND;TZID=America/Edmonton:20260502T120000
DTSTAMP:20260423T041207
CREATED:20260409T212704Z
LAST-MODIFIED:20260409T212704Z
UID:10007680-1777716000-1777723200@www.county.stpaul.ab.ca
SUMMARY:Comic Book Day - St. Paul
DESCRIPTION:Pick up a FREE comic book and a FREE coupon to Elite Movie Theatre! \nFor youth ages 13-21.
URL:https://www.county.stpaul.ab.ca/event/comic-book-day-st-paul/
LOCATION:St. Paul Municipal Library\, 4802 53 Street\, Saint Paul\, Alberta\, T0A 3A4\, Canada
CATEGORIES:Recreation,Youth
ATTACH;FMTTYPE=image/png:https://s3.ca-central-1.amazonaws.com/oc-county.stpaul.ab.ca/wp-content/uploads/2026/04/09152633/SPYC-Events-Comic-Book-Day-20260502.png
END:VEVENT
BEGIN:VEVENT
DTSTART;TZID=America/Edmonton:20260507T133000
DTEND;TZID=America/Edmonton:20260507T140000
DTSTAMP:20260423T041207
CREATED:20250711T155455Z
LAST-MODIFIED:20250711T160424Z
UID:10004017-1778160600-1778162400@www.county.stpaul.ab.ca
SUMMARY:Urban Poling in Elk Point
DESCRIPTION:Connect\, get outdoors\, and walk your way to better health\, every Thursday in Elk Point. \nParticipants will meet at the Regional FCSS office (4906 48 Street) at 1:30 p.m. before heading out on an urban poling journey! \nAll participants may register each week for FREE at 780-724-3800.
URL:https://www.county.stpaul.ab.ca/event/urban-poling-in-elk-point-2/2026-05-07/
LOCATION:Elk Point Regional FCSS Office\, 4906A 48 Street\, Elk Point\, Alberta\, Canada
CATEGORIES:Lifestyle and Health,Recreation
END:VEVENT
BEGIN:VEVENT
DTSTART;TZID=America/Edmonton:20260507T170000
DTEND;TZID=America/Edmonton:20260507T183000
DTSTAMP:20260423T041207
CREATED:20260309T213444Z
LAST-MODIFIED:20260309T213517Z
UID:10007652-1778173200-1778178600@www.county.stpaul.ab.ca
SUMMARY:Open Gym Night - Elk Point
DESCRIPTION:Basketball\, volleyball\, music\, and more! Show up\, play\, and have a great time. \nFor ages 13-21\, no registration required. Just bring a pair of indoor runners!
URL:https://www.county.stpaul.ab.ca/event/open-gym-night-elk-point/2026-05-07/
LOCATION:FG Miller High School\, 5218 51 Street\, Elk Point\, Alberta\, T0A 0B9\, Canada
CATEGORIES:Recreation,Sports,Youth
ATTACH;FMTTYPE=image/jpeg:https://s3.ca-central-1.amazonaws.com/oc-county.stpaul.ab.ca/wp-content/uploads/2026/03/09153327/EPYC-Events-Open-Gym-Night-202604-06.jpg
END:VEVENT
BEGIN:VEVENT
DTSTART;TZID=America/Edmonton:20260509T110000
DTEND;TZID=America/Edmonton:20260509T220000
DTSTAMP:20260423T041207
CREATED:20260303T163241Z
LAST-MODIFIED:20260303T192148Z
UID:10007580-1778324400-1778364000@www.county.stpaul.ab.ca
SUMMARY:2nd Chance Trail Ride
DESCRIPTION:Head back on the trail for the 15th Annual 2nd Chance Trail Ride – celebrating community\, hope\, and the journey that started it all. Riding from the Lindbergh Staging Area to the Heinsburg Staging Area\, this annual event continues to raise awareness and support for organ and tissue donation. \nWhat to Expect\nScenic Trail Ride – Take in the beauty of the ride that started it all\nExciting Poker Rally Stops – Test your luck along the way\nMid-Point Lunch Stop – Refuel before heading to the finish\nLive Auction at Middle Creek\nDelicious BBQ Supper– Served at Heinsburg Hall\nSilent Auction & Prizes – Great rewards for the poker rally winners\nBar Available – Cool down with a refreshing beverage after the ride \n$50 per ticket
URL:https://www.county.stpaul.ab.ca/event/2nd-chance-trail-ride/
LOCATION:Alberta
CATEGORIES:Community,Recreation
ATTACH;FMTTYPE=image/jpeg:https://s3.ca-central-1.amazonaws.com/oc-county.stpaul.ab.ca/wp-content/uploads/2026/03/03122105/2nd-Chance-Events-Trail-Ride-20260509.jpg
END:VEVENT
BEGIN:VEVENT
DTSTART;TZID=America/Edmonton:20260513T190000
DTEND;TZID=America/Edmonton:20260513T203000
DTSTAMP:20260423T041207
CREATED:20240402T201355Z
LAST-MODIFIED:20260309T210255Z
UID:10007645-1778698800-1778704200@www.county.stpaul.ab.ca
SUMMARY:Open Gym Night - St. Paul
DESCRIPTION:Basketball\, volleyball\, music\, and more! Show up\, play\, and have a great time. \nFor ages 13-21\, no registration required. Just bring a pair of indoor runners!
URL:https://www.county.stpaul.ab.ca/event/open-gym-night-2/2026-05-13/
LOCATION:École Racette Junior High School\, 4638 50 Avenue\, St. Paul\, Alberta\, T0A 3A2\, Canada
CATEGORIES:Recreation,Sports,Youth
ATTACH;FMTTYPE=image/jpeg:https://s3.ca-central-1.amazonaws.com/oc-county.stpaul.ab.ca/wp-content/uploads/2024/04/09143854/SPYC-Events-Open-Gym-Night-202604-06.jpg
END:VEVENT
BEGIN:VEVENT
DTSTART;TZID=America/Edmonton:20260514T133000
DTEND;TZID=America/Edmonton:20260514T140000
DTSTAMP:20260423T041207
CREATED:20250711T155455Z
LAST-MODIFIED:20250711T160424Z
UID:10004018-1778765400-1778767200@www.county.stpaul.ab.ca
SUMMARY:Urban Poling in Elk Point
DESCRIPTION:Connect\, get outdoors\, and walk your way to better health\, every Thursday in Elk Point. \nParticipants will meet at the Regional FCSS office (4906 48 Street) at 1:30 p.m. before heading out on an urban poling journey! \nAll participants may register each week for FREE at 780-724-3800.
URL:https://www.county.stpaul.ab.ca/event/urban-poling-in-elk-point-2/2026-05-14/
LOCATION:Elk Point Regional FCSS Office\, 4906A 48 Street\, Elk Point\, Alberta\, Canada
CATEGORIES:Lifestyle and Health,Recreation
END:VEVENT
BEGIN:VEVENT
DTSTART;TZID=America/Edmonton:20260515T180000
DTEND;TZID=America/Edmonton:20260515T210000
DTSTAMP:20260423T041207
CREATED:20250131T233250Z
LAST-MODIFIED:20260124T001401Z
UID:10007454-1778868000-1778878800@www.county.stpaul.ab.ca
SUMMARY:Library After Dark: Adult Boardgame Night
DESCRIPTION:For ages 18+! Registration is required for this event\, due to it taking place after the library’s regular hours. \nThis event can be registered for under the ‘Programs’ tab on the St. Paul Library website or email programs@stpaullibrary.ab.ca
URL:https://www.county.stpaul.ab.ca/event/library-after-dark-adult-boardgame-night-2/2026-05-15/
LOCATION:St. Paul Municipal Library\, 4802 53 Street\, Saint Paul\, Alberta\, T0A 3A4\, Canada
CATEGORIES:Recreation
ATTACH;FMTTYPE=image/jpeg:https://s3.ca-central-1.amazonaws.com/oc-county.stpaul.ab.ca/wp-content/uploads/2024/04/31162947/St.-Paul-Library-Events-Adult-Boardgame-Night-2025.jpg
END:VEVENT
BEGIN:VEVENT
DTSTART;TZID=America/Edmonton:20260521T133000
DTEND;TZID=America/Edmonton:20260521T140000
DTSTAMP:20260423T041207
CREATED:20250711T155455Z
LAST-MODIFIED:20250711T160424Z
UID:10004019-1779370200-1779372000@www.county.stpaul.ab.ca
SUMMARY:Urban Poling in Elk Point
DESCRIPTION:Connect\, get outdoors\, and walk your way to better health\, every Thursday in Elk Point. \nParticipants will meet at the Regional FCSS office (4906 48 Street) at 1:30 p.m. before heading out on an urban poling journey! \nAll participants may register each week for FREE at 780-724-3800.
URL:https://www.county.stpaul.ab.ca/event/urban-poling-in-elk-point-2/2026-05-21/
LOCATION:Elk Point Regional FCSS Office\, 4906A 48 Street\, Elk Point\, Alberta\, Canada
CATEGORIES:Lifestyle and Health,Recreation
END:VEVENT
BEGIN:VEVENT
DTSTART;TZID=America/Edmonton:20260527T183000
DTEND;TZID=America/Edmonton:20260527T200000
DTSTAMP:20260423T041207
CREATED:20240402T161047Z
LAST-MODIFIED:20250905T175701Z
UID:10005064-1779906600-1779912000@www.county.stpaul.ab.ca
SUMMARY:Last Wednesday of the Month Book Club
DESCRIPTION:Join like-minded people every month to discuss the Book of the Month! \nEmail programs@stpaullibrary.ab.ca for more information on the month’s book.
URL:https://www.county.stpaul.ab.ca/event/last-wednesday-of-the-month-book-club/2026-05-27/
LOCATION:St. Paul Municipal Library\, 4802 53 Street\, Saint Paul\, Alberta\, T0A 3A4\, Canada
CATEGORIES:Arts & Culture,Recreation
ATTACH;FMTTYPE=image/jpeg:https://s3.ca-central-1.amazonaws.com/oc-county.stpaul.ab.ca/wp-content/uploads/2024/04/05115525/St.-Paul-Library-Events-End-of-the-Month-Bookclub-2025-26.jpg
END:VEVENT
BEGIN:VEVENT
DTSTART;TZID=America/Edmonton:20260528T133000
DTEND;TZID=America/Edmonton:20260528T140000
DTSTAMP:20260423T041207
CREATED:20250711T155455Z
LAST-MODIFIED:20250711T160424Z
UID:10004020-1779975000-1779976800@www.county.stpaul.ab.ca
SUMMARY:Urban Poling in Elk Point
DESCRIPTION:Connect\, get outdoors\, and walk your way to better health\, every Thursday in Elk Point. \nParticipants will meet at the Regional FCSS office (4906 48 Street) at 1:30 p.m. before heading out on an urban poling journey! \nAll participants may register each week for FREE at 780-724-3800.
URL:https://www.county.stpaul.ab.ca/event/urban-poling-in-elk-point-2/2026-05-28/
LOCATION:Elk Point Regional FCSS Office\, 4906A 48 Street\, Elk Point\, Alberta\, Canada
CATEGORIES:Lifestyle and Health,Recreation
END:VEVENT
END:VCALENDAR