BEGIN:VCALENDAR
VERSION:2.0
PRODID:-//County of St. Paul - ECPv6.15.17.1//NONSGML v1.0//EN
CALSCALE:GREGORIAN
METHOD:PUBLISH
X-WR-CALNAME:County of St. Paul
X-ORIGINAL-URL:https://www.county.stpaul.ab.ca
X-WR-CALDESC:Events for County of St. Paul
REFRESH-INTERVAL;VALUE=DURATION:PT1H
X-Robots-Tag:noindex
X-PUBLISHED-TTL:PT1H
BEGIN:VTIMEZONE
TZID:America/Edmonton
BEGIN:DAYLIGHT
TZOFFSETFROM:-0700
TZOFFSETTO:-0600
TZNAME:MDT
DTSTART:20250309T090000
END:DAYLIGHT
BEGIN:STANDARD
TZOFFSETFROM:-0600
TZOFFSETTO:-0700
TZNAME:MST
DTSTART:20251102T080000
END:STANDARD
BEGIN:DAYLIGHT
TZOFFSETFROM:-0700
TZOFFSETTO:-0600
TZNAME:MDT
DTSTART:20260308T090000
END:DAYLIGHT
BEGIN:STANDARD
TZOFFSETFROM:-0600
TZOFFSETTO:-0700
TZNAME:MST
DTSTART:20261101T080000
END:STANDARD
BEGIN:DAYLIGHT
TZOFFSETFROM:-0700
TZOFFSETTO:-0600
TZNAME:MDT
DTSTART:20270314T090000
END:DAYLIGHT
BEGIN:STANDARD
TZOFFSETFROM:-0600
TZOFFSETTO:-0700
TZNAME:MST
DTSTART:20271107T080000
END:STANDARD
END:VTIMEZONE
BEGIN:VEVENT
DTSTART;TZID=America/Edmonton:20260403T180000
DTEND;TZID=America/Edmonton:20260403T210000
DTSTAMP:20260419T083828
CREATED:20240402T160303Z
LAST-MODIFIED:20260124T001321Z
UID:10007441-1775239200-1775250000@www.county.stpaul.ab.ca
SUMMARY:Library After Dark: Adult Boardgame Night
DESCRIPTION:For ages 18+! Registration is required for this event\, due to it taking place after the library’s regular hours. \nThis event can be registered for under the ‘Programs’ tab on the St. Paul Library website or email programs@stpaullibrary.ab.ca
URL:https://www.county.stpaul.ab.ca/event/library-after-dark-adult-boardgame-night/2026-04-03/
LOCATION:St. Paul Municipal Library\, 4802 53 Street\, Saint Paul\, Alberta\, T0A 3A4\, Canada
CATEGORIES:Recreation
ATTACH;FMTTYPE=image/jpeg:https://s3.ca-central-1.amazonaws.com/oc-county.stpaul.ab.ca/wp-content/uploads/2024/04/31162947/St.-Paul-Library-Events-Adult-Boardgame-Night-2025.jpg
END:VEVENT
END:VCALENDAR