BEGIN:VCALENDAR
VERSION:2.0
PRODID:-//County of St. Paul - ECPv6.15.17.1//NONSGML v1.0//EN
CALSCALE:GREGORIAN
METHOD:PUBLISH
X-WR-CALNAME:County of St. Paul
X-ORIGINAL-URL:https://www.county.stpaul.ab.ca
X-WR-CALDESC:Events for County of St. Paul
REFRESH-INTERVAL;VALUE=DURATION:PT1H
X-Robots-Tag:noindex
X-PUBLISHED-TTL:PT1H
BEGIN:VTIMEZONE
TZID:America/Edmonton
BEGIN:DAYLIGHT
TZOFFSETFROM:-0700
TZOFFSETTO:-0600
TZNAME:MDT
DTSTART:20250309T090000
END:DAYLIGHT
BEGIN:STANDARD
TZOFFSETFROM:-0600
TZOFFSETTO:-0700
TZNAME:MST
DTSTART:20251102T080000
END:STANDARD
BEGIN:DAYLIGHT
TZOFFSETFROM:-0700
TZOFFSETTO:-0600
TZNAME:MDT
DTSTART:20260308T090000
END:DAYLIGHT
BEGIN:STANDARD
TZOFFSETFROM:-0600
TZOFFSETTO:-0700
TZNAME:MST
DTSTART:20261101T080000
END:STANDARD
BEGIN:DAYLIGHT
TZOFFSETFROM:-0700
TZOFFSETTO:-0600
TZNAME:MDT
DTSTART:20270314T090000
END:DAYLIGHT
BEGIN:STANDARD
TZOFFSETFROM:-0600
TZOFFSETTO:-0700
TZNAME:MST
DTSTART:20271107T080000
END:STANDARD
END:VTIMEZONE
BEGIN:VEVENT
DTSTART;TZID=America/Edmonton:20260422T180000
DTEND;TZID=America/Edmonton:20260422T200000
DTSTAMP:20260419T090024
CREATED:20240507T155605Z
LAST-MODIFIED:20260409T194959Z
UID:10000890-1776880800-1776888000@www.county.stpaul.ab.ca
SUMMARY:Dungeons & Dragons
DESCRIPTION:Geared to youth ages 12-18\, connect with friends and learn a new game! \nDungeon Master will be in attendance. Free event with snacks! Call to register at 780-645-5311.
URL:https://www.county.stpaul.ab.ca/event/dungeons-dragons/
LOCATION:St. Paul Regional FCSS Office\, 5002 51 Avenue\, St. Paul\, Alberta\, T0A 3A1\, Canada
CATEGORIES:Recreation,Youth
ATTACH;FMTTYPE=image/png:https://s3.ca-central-1.amazonaws.com/oc-county.stpaul.ab.ca/wp-content/uploads/2024/05/09134923/LFRN-Events-Dungeons-Dragons-20260422.png
END:VEVENT
BEGIN:VEVENT
DTSTART;TZID=America/Edmonton:20260423T133000
DTEND;TZID=America/Edmonton:20260423T140000
DTSTAMP:20260419T090024
CREATED:20250711T155455Z
LAST-MODIFIED:20250711T160424Z
UID:10004015-1776951000-1776952800@www.county.stpaul.ab.ca
SUMMARY:Urban Poling in Elk Point
DESCRIPTION:Connect\, get outdoors\, and walk your way to better health\, every Thursday in Elk Point. \nParticipants will meet at the Regional FCSS office (4906 48 Street) at 1:30 p.m. before heading out on an urban poling journey! \nAll participants may register each week for FREE at 780-724-3800.
URL:https://www.county.stpaul.ab.ca/event/urban-poling-in-elk-point-2/2026-04-23/
LOCATION:Elk Point Regional FCSS Office\, 4906A 48 Street\, Elk Point\, Alberta\, Canada
CATEGORIES:Lifestyle and Health,Recreation
END:VEVENT
BEGIN:VEVENT
DTSTART;TZID=America/Edmonton:20260423T180000
DTEND;TZID=America/Edmonton:20260423T193000
DTSTAMP:20260419T090024
CREATED:20240402T212912Z
LAST-MODIFIED:20260409T195626Z
UID:10000965-1776967200-1776972600@www.county.stpaul.ab.ca
SUMMARY:Evening Run\, Jump\, Skip
DESCRIPTION:Encouraging gross motor development\, sharing\, and taking turns while being active and having fun! \nFREE drop in for ages 0-6. Call 780-645-5311 for more information.
URL:https://www.county.stpaul.ab.ca/event/evening-run-jump-skip/
LOCATION:ACFA Régionale de Saint-Paul\, 4617 50 Avenue\, St. Paul\, Alberta\, T0A 3A3\, Canada
CATEGORIES:Recreation,Youth
ATTACH;FMTTYPE=image/png:https://s3.ca-central-1.amazonaws.com/oc-county.stpaul.ab.ca/wp-content/uploads/2024/04/09135543/LFRN-Events-Evening-Run-Jump-Skip-20260423.png
END:VEVENT
BEGIN:VEVENT
DTSTART;TZID=America/Edmonton:20260429T183000
DTEND;TZID=America/Edmonton:20260429T200000
DTSTAMP:20260419T090024
CREATED:20240402T161047Z
LAST-MODIFIED:20250905T175701Z
UID:10005063-1777487400-1777492800@www.county.stpaul.ab.ca
SUMMARY:Last Wednesday of the Month Book Club
DESCRIPTION:Join like-minded people every month to discuss the Book of the Month! \nEmail programs@stpaullibrary.ab.ca for more information on the month’s book.
URL:https://www.county.stpaul.ab.ca/event/last-wednesday-of-the-month-book-club/2026-04-29/
LOCATION:St. Paul Municipal Library\, 4802 53 Street\, Saint Paul\, Alberta\, T0A 3A4\, Canada
CATEGORIES:Arts & Culture,Recreation
ATTACH;FMTTYPE=image/jpeg:https://s3.ca-central-1.amazonaws.com/oc-county.stpaul.ab.ca/wp-content/uploads/2024/04/05115525/St.-Paul-Library-Events-End-of-the-Month-Bookclub-2025-26.jpg
END:VEVENT
BEGIN:VEVENT
DTSTART;TZID=America/Edmonton:20260430T133000
DTEND;TZID=America/Edmonton:20260430T140000
DTSTAMP:20260419T090024
CREATED:20250711T155455Z
LAST-MODIFIED:20250711T160424Z
UID:10004016-1777555800-1777557600@www.county.stpaul.ab.ca
SUMMARY:Urban Poling in Elk Point
DESCRIPTION:Connect\, get outdoors\, and walk your way to better health\, every Thursday in Elk Point. \nParticipants will meet at the Regional FCSS office (4906 48 Street) at 1:30 p.m. before heading out on an urban poling journey! \nAll participants may register each week for FREE at 780-724-3800.
URL:https://www.county.stpaul.ab.ca/event/urban-poling-in-elk-point-2/2026-04-30/
LOCATION:Elk Point Regional FCSS Office\, 4906A 48 Street\, Elk Point\, Alberta\, Canada
CATEGORIES:Lifestyle and Health,Recreation
END:VEVENT
END:VCALENDAR