BEGIN:VCALENDAR
VERSION:2.0
PRODID:-//County of St. Paul - ECPv6.15.17.1//NONSGML v1.0//EN
CALSCALE:GREGORIAN
METHOD:PUBLISH
X-ORIGINAL-URL:https://www.county.stpaul.ab.ca
X-WR-CALDESC:Events for County of St. Paul
REFRESH-INTERVAL;VALUE=DURATION:PT1H
X-Robots-Tag:noindex
X-PUBLISHED-TTL:PT1H
BEGIN:VTIMEZONE
TZID:America/Edmonton
BEGIN:DAYLIGHT
TZOFFSETFROM:-0700
TZOFFSETTO:-0600
TZNAME:MDT
DTSTART:20250309T090000
END:DAYLIGHT
BEGIN:STANDARD
TZOFFSETFROM:-0600
TZOFFSETTO:-0700
TZNAME:MST
DTSTART:20251102T080000
END:STANDARD
BEGIN:DAYLIGHT
TZOFFSETFROM:-0700
TZOFFSETTO:-0600
TZNAME:MDT
DTSTART:20260308T090000
END:DAYLIGHT
BEGIN:STANDARD
TZOFFSETFROM:-0600
TZOFFSETTO:-0700
TZNAME:MST
DTSTART:20261101T080000
END:STANDARD
BEGIN:DAYLIGHT
TZOFFSETFROM:-0700
TZOFFSETTO:-0600
TZNAME:MDT
DTSTART:20270314T090000
END:DAYLIGHT
BEGIN:STANDARD
TZOFFSETFROM:-0600
TZOFFSETTO:-0700
TZNAME:MST
DTSTART:20271107T080000
END:STANDARD
END:VTIMEZONE
BEGIN:VEVENT
DTSTART;TZID=America/Edmonton:20260325T120000
DTEND;TZID=America/Edmonton:20260325T133000
DTSTAMP:20260425T044744
CREATED:20260126T183622Z
LAST-MODIFIED:20260126T183622Z
UID:10007519-1774440000-1774445400@www.county.stpaul.ab.ca
SUMMARY:Senior Skating
DESCRIPTION:Free drop-in! \nTimes subject to change throughout the season\, check the Arena’s Facebook page.
URL:https://www.county.stpaul.ab.ca/event/senior-skating/2026-03-25/
LOCATION:A.G. Ross Arena\, 5326 51 Street\, Elk Point\, Alberta\, T0A 1A0\, Canada
CATEGORIES:Recreation
ATTACH;FMTTYPE=image/jpeg:https://s3.ca-central-1.amazonaws.com/oc-county.stpaul.ab.ca/wp-content/uploads/2026/01/26113521/AG-Ross-Events-Senior-Skating-2025-26.jpg
END:VEVENT
BEGIN:VEVENT
DTSTART;TZID=America/Edmonton:20260325T133000
DTEND;TZID=America/Edmonton:20260325T150000
DTSTAMP:20260425T044744
CREATED:20260126T183118Z
LAST-MODIFIED:20260126T183118Z
UID:10007493-1774445400-1774450800@www.county.stpaul.ab.ca
SUMMARY:Parent & Kids Skating
DESCRIPTION:Free drop-in! \nTimes subject to change throughout the season\, check the Arena’s Facebook page.
URL:https://www.county.stpaul.ab.ca/event/parent-kids-skating/2026-03-25/
LOCATION:A.G. Ross Arena\, 5326 51 Street\, Elk Point\, Alberta\, T0A 1A0\, Canada
CATEGORIES:Recreation
ATTACH;FMTTYPE=image/jpeg:https://s3.ca-central-1.amazonaws.com/oc-county.stpaul.ab.ca/wp-content/uploads/2026/01/26112817/AG-Ross-Events-Parents-Kids-Skating-2025-26.jpg
END:VEVENT
BEGIN:VEVENT
DTSTART;TZID=America/Edmonton:20260325T183000
DTEND;TZID=America/Edmonton:20260325T200000
DTSTAMP:20260425T044744
CREATED:20240402T161047Z
LAST-MODIFIED:20250905T175701Z
UID:10005062-1774463400-1774468800@www.county.stpaul.ab.ca
SUMMARY:Last Wednesday of the Month Book Club
DESCRIPTION:Join like-minded people every month to discuss the Book of the Month! \nEmail programs@stpaullibrary.ab.ca for more information on the month’s book.
URL:https://www.county.stpaul.ab.ca/event/last-wednesday-of-the-month-book-club/2026-03-25/
LOCATION:St. Paul Municipal Library\, 4802 53 Street\, Saint Paul\, Alberta\, T0A 3A4\, Canada
CATEGORIES:Arts & Culture,Recreation
ATTACH;FMTTYPE=image/jpeg:https://s3.ca-central-1.amazonaws.com/oc-county.stpaul.ab.ca/wp-content/uploads/2024/04/05115525/St.-Paul-Library-Events-End-of-the-Month-Bookclub-2025-26.jpg
END:VEVENT
BEGIN:VEVENT
DTSTART;TZID=America/Edmonton:20260326T133000
DTEND;TZID=America/Edmonton:20260326T140000
DTSTAMP:20260425T044744
CREATED:20250711T155455Z
LAST-MODIFIED:20250711T160424Z
UID:10004011-1774531800-1774533600@www.county.stpaul.ab.ca
SUMMARY:Urban Poling in Elk Point
DESCRIPTION:Connect\, get outdoors\, and walk your way to better health\, every Thursday in Elk Point. \nParticipants will meet at the Regional FCSS office (4906 48 Street) at 1:30 p.m. before heading out on an urban poling journey! \nAll participants may register each week for FREE at 780-724-3800.
URL:https://www.county.stpaul.ab.ca/event/urban-poling-in-elk-point-2/2026-03-26/
LOCATION:Elk Point Regional FCSS Office\, 4906A 48 Street\, Elk Point\, Alberta\, Canada
CATEGORIES:Lifestyle and Health,Recreation
END:VEVENT
END:VCALENDAR