BEGIN:VCALENDAR
VERSION:2.0
PRODID:-//County of St. Paul - ECPv6.15.17.1//NONSGML v1.0//EN
CALSCALE:GREGORIAN
METHOD:PUBLISH
X-ORIGINAL-URL:https://www.county.stpaul.ab.ca
X-WR-CALDESC:Events for County of St. Paul
REFRESH-INTERVAL;VALUE=DURATION:PT1H
X-Robots-Tag:noindex
X-PUBLISHED-TTL:PT1H
BEGIN:VTIMEZONE
TZID:America/Edmonton
BEGIN:DAYLIGHT
TZOFFSETFROM:-0700
TZOFFSETTO:-0600
TZNAME:MDT
DTSTART:20240310T090000
END:DAYLIGHT
BEGIN:STANDARD
TZOFFSETFROM:-0600
TZOFFSETTO:-0700
TZNAME:MST
DTSTART:20241103T080000
END:STANDARD
BEGIN:DAYLIGHT
TZOFFSETFROM:-0700
TZOFFSETTO:-0600
TZNAME:MDT
DTSTART:20250309T090000
END:DAYLIGHT
BEGIN:STANDARD
TZOFFSETFROM:-0600
TZOFFSETTO:-0700
TZNAME:MST
DTSTART:20251102T080000
END:STANDARD
BEGIN:DAYLIGHT
TZOFFSETFROM:-0700
TZOFFSETTO:-0600
TZNAME:MDT
DTSTART:20260308T090000
END:DAYLIGHT
BEGIN:STANDARD
TZOFFSETFROM:-0600
TZOFFSETTO:-0700
TZNAME:MST
DTSTART:20261101T080000
END:STANDARD
END:VTIMEZONE
BEGIN:VEVENT
DTSTART;TZID=America/Edmonton:20251023T160000
DTEND;TZID=America/Edmonton:20251112T170000
DTSTAMP:20260424T062758
CREATED:20251003T195206Z
LAST-MODIFIED:20251003T195912Z
UID:10005246-1761235200-1762966800@www.county.stpaul.ab.ca
SUMMARY:Teen Market Training
DESCRIPTION:Young entrepreneurs aged 12-18 are invited to join two learning sessions designed to grow their budding businesses. Participants can then showcase their ventures at the Teen Market on November 15! \nOctober 23\, Introduction to Entrepreneurship\nOctober 30\, Selling Your Product\nNovember 13\, Final Questions & Prep \nRegister for all sessions through the Library’s ‘Programs’ tab or email programs@stpaullibrary.ab.ca. If you cannot make the training sessions but still want a table at the market\, you can still register.
URL:https://www.county.stpaul.ab.ca/event/teen-market-training/2025-10-23/
LOCATION:St. Paul Municipal Library\, 4802 53 Street\, Saint Paul\, Alberta\, T0A 3A4\, Canada
CATEGORIES:Business,Youth
END:VEVENT
BEGIN:VEVENT
DTSTART;TZID=America/Edmonton:20251030T160000
DTEND;TZID=America/Edmonton:20251030T170000
DTSTAMP:20260424T062759
CREATED:20251003T195206Z
LAST-MODIFIED:20251003T195912Z
UID:10005247-1761840000-1761843600@www.county.stpaul.ab.ca
SUMMARY:Teen Market Training
DESCRIPTION:Young entrepreneurs aged 12-18 are invited to join two learning sessions designed to grow their budding businesses. Participants can then showcase their ventures at the Teen Market on November 15! \nOctober 23\, Introduction to Entrepreneurship\nOctober 30\, Selling Your Product\nNovember 13\, Final Questions & Prep \nRegister for all sessions through the Library’s ‘Programs’ tab or email programs@stpaullibrary.ab.ca. If you cannot make the training sessions but still want a table at the market\, you can still register.
URL:https://www.county.stpaul.ab.ca/event/teen-market-training/2025-10-30/
LOCATION:St. Paul Municipal Library\, 4802 53 Street\, Saint Paul\, Alberta\, T0A 3A4\, Canada
CATEGORIES:Business,Youth
END:VEVENT
BEGIN:VEVENT
DTSTART;TZID=America/Edmonton:20251030T173000
DTEND;TZID=America/Edmonton:20251030T180000
DTSTAMP:20260424T062759
CREATED:20250818T210839Z
LAST-MODIFIED:20250818T210839Z
UID:10005019-1761845400-1761847200@www.county.stpaul.ab.ca
SUMMARY:Tot and Me Dance
DESCRIPTION:Explore rhythm\, music\, and creative movement with your child! \nFor ages 3.5-6\, caregiver must be in attendance. Register as a sessional or for the full year.
URL:https://www.county.stpaul.ab.ca/event/tot-and-me-dance/2025-10-30/
LOCATION:St. Paul & District Arts Foundation\, 4822 50 Avenue\, St. Paul\, Alberta\, T0A 3A0\, Canada
CATEGORIES:Youth
ATTACH;FMTTYPE=image/jpeg:https://s3.ca-central-1.amazonaws.com/oc-county.stpaul.ab.ca/wp-content/uploads/2025/08/18150626/St.-Paul-Arts-Events-Tot-and-Me-Dance-2025-2026.jpg
END:VEVENT
END:VCALENDAR