BEGIN:VCALENDAR
VERSION:2.0
PRODID:-//County of St. Paul - ECPv6.15.17.1//NONSGML v1.0//EN
CALSCALE:GREGORIAN
METHOD:PUBLISH
X-ORIGINAL-URL:https://www.county.stpaul.ab.ca
X-WR-CALDESC:Events for County of St. Paul
REFRESH-INTERVAL;VALUE=DURATION:PT1H
X-Robots-Tag:noindex
X-PUBLISHED-TTL:PT1H
BEGIN:VTIMEZONE
TZID:America/Edmonton
BEGIN:DAYLIGHT
TZOFFSETFROM:-0700
TZOFFSETTO:-0600
TZNAME:MDT
DTSTART:20240310T090000
END:DAYLIGHT
BEGIN:STANDARD
TZOFFSETFROM:-0600
TZOFFSETTO:-0700
TZNAME:MST
DTSTART:20241103T080000
END:STANDARD
BEGIN:DAYLIGHT
TZOFFSETFROM:-0700
TZOFFSETTO:-0600
TZNAME:MDT
DTSTART:20250309T090000
END:DAYLIGHT
BEGIN:STANDARD
TZOFFSETFROM:-0600
TZOFFSETTO:-0700
TZNAME:MST
DTSTART:20251102T080000
END:STANDARD
BEGIN:DAYLIGHT
TZOFFSETFROM:-0700
TZOFFSETTO:-0600
TZNAME:MDT
DTSTART:20260308T090000
END:DAYLIGHT
BEGIN:STANDARD
TZOFFSETFROM:-0600
TZOFFSETTO:-0700
TZNAME:MST
DTSTART:20261101T080000
END:STANDARD
BEGIN:DAYLIGHT
TZOFFSETFROM:-0700
TZOFFSETTO:-0600
TZNAME:MDT
DTSTART:20270314T090000
END:DAYLIGHT
BEGIN:STANDARD
TZOFFSETFROM:-0600
TZOFFSETTO:-0700
TZNAME:MST
DTSTART:20271107T080000
END:STANDARD
END:VTIMEZONE
BEGIN:VEVENT
DTSTART;TZID=America/Edmonton:20251227T080000
DTEND;TZID=America/Edmonton:20251227T170000
DTSTAMP:20260424T030045
CREATED:20251208T175803Z
LAST-MODIFIED:20251208T175803Z
UID:10005455-1766822400-1766854800@www.county.stpaul.ab.ca
SUMMARY:Gingerbread Contest
DESCRIPTION:An online contest for ages 13-21 to show off their most creative\, festive\, or funny gingerbread houses and cookies! \nPost your creation and tag @SPYC20 on Instagram or email your photo to fcssyouth@town.stpaul.ab.ca
URL:https://www.county.stpaul.ab.ca/event/gingerbread-contest/2025-12-27/
LOCATION:Online
CATEGORIES:Holiday,Youth
END:VEVENT
BEGIN:VEVENT
DTSTART;TZID=America/Edmonton:20251228T080000
DTEND;TZID=America/Edmonton:20251228T170000
DTSTAMP:20260424T030045
CREATED:20251208T175803Z
LAST-MODIFIED:20251208T175803Z
UID:10005456-1766908800-1766941200@www.county.stpaul.ab.ca
SUMMARY:Gingerbread Contest
DESCRIPTION:An online contest for ages 13-21 to show off their most creative\, festive\, or funny gingerbread houses and cookies! \nPost your creation and tag @SPYC20 on Instagram or email your photo to fcssyouth@town.stpaul.ab.ca
URL:https://www.county.stpaul.ab.ca/event/gingerbread-contest/2025-12-28/
LOCATION:Online
CATEGORIES:Holiday,Youth
END:VEVENT
BEGIN:VEVENT
DTSTART;TZID=America/Edmonton:20251229T080000
DTEND;TZID=America/Edmonton:20251229T170000
DTSTAMP:20260424T030045
CREATED:20251208T175803Z
LAST-MODIFIED:20251208T175803Z
UID:10005457-1766995200-1767027600@www.county.stpaul.ab.ca
SUMMARY:Gingerbread Contest
DESCRIPTION:An online contest for ages 13-21 to show off their most creative\, festive\, or funny gingerbread houses and cookies! \nPost your creation and tag @SPYC20 on Instagram or email your photo to fcssyouth@town.stpaul.ab.ca
URL:https://www.county.stpaul.ab.ca/event/gingerbread-contest/2025-12-29/
LOCATION:Online
CATEGORIES:Holiday,Youth
END:VEVENT
BEGIN:VEVENT
DTSTART;TZID=America/Edmonton:20251229T130000
DTEND;TZID=America/Edmonton:20251229T160000
DTSTAMP:20260424T030045
CREATED:20250318T161723Z
LAST-MODIFIED:20251208T155858Z
UID:10002974-1767013200-1767024000@www.county.stpaul.ab.ca
SUMMARY:Youth Painting Class
DESCRIPTION:For youth ages 8+ to paint Snowy Reindeer with Judy Thompson! \n$25\, bring a nut-free snack and water bottle. Pre-registration and pre-payment required. 48 hours cancellation notice needed. \nRegister with Judy at 780-547-5578 and discuss payment options.
URL:https://www.county.stpaul.ab.ca/event/youth-painting-class/
LOCATION:St. Paul Visual Arts Centre\, 4613 53 Street\, St. Paul\, Alberta\, T0A 3A4\, Canada
CATEGORIES:Arts & Culture,Youth
END:VEVENT
BEGIN:VEVENT
DTSTART;TZID=America/Edmonton:20251230T080000
DTEND;TZID=America/Edmonton:20251230T170000
DTSTAMP:20260424T030045
CREATED:20251208T175803Z
LAST-MODIFIED:20251208T175803Z
UID:10005458-1767081600-1767114000@www.county.stpaul.ab.ca
SUMMARY:Gingerbread Contest
DESCRIPTION:An online contest for ages 13-21 to show off their most creative\, festive\, or funny gingerbread houses and cookies! \nPost your creation and tag @SPYC20 on Instagram or email your photo to fcssyouth@town.stpaul.ab.ca
URL:https://www.county.stpaul.ab.ca/event/gingerbread-contest/2025-12-30/
LOCATION:Online
CATEGORIES:Holiday,Youth
END:VEVENT
BEGIN:VEVENT
DTSTART;TZID=America/Edmonton:20251230T130000
DTEND;TZID=America/Edmonton:20251230T150000
DTSTAMP:20260424T030045
CREATED:20250730T145458Z
LAST-MODIFIED:20250811T192919Z
UID:10004454-1767099600-1767106800@www.county.stpaul.ab.ca
SUMMARY:Iskwewak Healing Together (Women’s Circle)
DESCRIPTION:Join Mannawanis for weekly healing circles — safe spaces for sharing\, support\, and community connection. \n\nThese circles offer a welcoming space for reflection\, healing\, and growth rooted in Indigenous teachings and community care. All are welcome.\n\n\nQuestions? Call 780-645-4630 and ask for Twila.
URL:https://www.county.stpaul.ab.ca/event/iskwewak-healing-together-womens-circle/2025-12-30/
LOCATION:Mannawanis Native Friendship Centre Society\, 4901 50 Street\, St. Paul\, Alberta\, T0A 3A4\, Canada
CATEGORIES:Community
ATTACH;FMTTYPE=image/jpeg:https://s3.ca-central-1.amazonaws.com/oc-county.stpaul.ab.ca/wp-content/uploads/2025/07/11132813/Mannawanis-Events-Womens-Healing-Circle-2025R.jpg
END:VEVENT
BEGIN:VEVENT
DTSTART;TZID=America/Edmonton:20251231T080000
DTEND;TZID=America/Edmonton:20251231T170000
DTSTAMP:20260424T030045
CREATED:20251208T175803Z
LAST-MODIFIED:20251208T175803Z
UID:10005459-1767168000-1767200400@www.county.stpaul.ab.ca
SUMMARY:Gingerbread Contest
DESCRIPTION:An online contest for ages 13-21 to show off their most creative\, festive\, or funny gingerbread houses and cookies! \nPost your creation and tag @SPYC20 on Instagram or email your photo to fcssyouth@town.stpaul.ab.ca
URL:https://www.county.stpaul.ab.ca/event/gingerbread-contest/2025-12-31/
LOCATION:Online
CATEGORIES:Holiday,Youth
END:VEVENT
BEGIN:VEVENT
DTSTART;TZID=America/Edmonton:20251231T120000
DTEND;TZID=America/Edmonton:20251231T133000
DTSTAMP:20260424T030045
CREATED:20260126T183622Z
LAST-MODIFIED:20260126T183622Z
UID:10007507-1767182400-1767187800@www.county.stpaul.ab.ca
SUMMARY:Senior Skating
DESCRIPTION:Free drop-in! \nTimes subject to change throughout the season\, check the Arena’s Facebook page.
URL:https://www.county.stpaul.ab.ca/event/senior-skating/2025-12-31/
LOCATION:A.G. Ross Arena\, 5326 51 Street\, Elk Point\, Alberta\, T0A 1A0\, Canada
CATEGORIES:Recreation
ATTACH;FMTTYPE=image/jpeg:https://s3.ca-central-1.amazonaws.com/oc-county.stpaul.ab.ca/wp-content/uploads/2026/01/26113521/AG-Ross-Events-Senior-Skating-2025-26.jpg
END:VEVENT
BEGIN:VEVENT
DTSTART;TZID=America/Edmonton:20251231T130000
DTEND;TZID=America/Edmonton:20251231T150000
DTSTAMP:20260424T030045
CREATED:20250730T145924Z
LAST-MODIFIED:20250730T145924Z
UID:10004716-1767186000-1767193200@www.county.stpaul.ab.ca
SUMMARY:Napewak Healing Together (Men’s Circle)
DESCRIPTION:Join Mannawanis for weekly healing circles — safe spaces for sharing\, support\, and community connection. \n\nThese circles offer a welcoming space for reflection\, healing\, and growth rooted in Indigenous teachings and community care. All are welcome.\n\n\nQuestions? Call 780-645-4630 and ask for Twila.
URL:https://www.county.stpaul.ab.ca/event/napewak-healing-together-mens-circle/2025-12-31/
LOCATION:Mannawanis Native Friendship Centre Society\, 4901 50 Street\, St. Paul\, Alberta\, T0A 3A4\, Canada
CATEGORIES:Community
ATTACH;FMTTYPE=image/jpeg:https://s3.ca-central-1.amazonaws.com/oc-county.stpaul.ab.ca/wp-content/uploads/2025/07/30085810/Mannawanis-Events-Mens-Healing-Circle-2025.jpg
END:VEVENT
BEGIN:VEVENT
DTSTART;TZID=America/Edmonton:20251231T133000
DTEND;TZID=America/Edmonton:20251231T150000
DTSTAMP:20260424T030045
CREATED:20260126T183118Z
LAST-MODIFIED:20260126T183118Z
UID:10007481-1767187800-1767193200@www.county.stpaul.ab.ca
SUMMARY:Parent & Kids Skating
DESCRIPTION:Free drop-in! \nTimes subject to change throughout the season\, check the Arena’s Facebook page.
URL:https://www.county.stpaul.ab.ca/event/parent-kids-skating/2025-12-31/
LOCATION:A.G. Ross Arena\, 5326 51 Street\, Elk Point\, Alberta\, T0A 1A0\, Canada
CATEGORIES:Recreation
ATTACH;FMTTYPE=image/jpeg:https://s3.ca-central-1.amazonaws.com/oc-county.stpaul.ab.ca/wp-content/uploads/2026/01/26112817/AG-Ross-Events-Parents-Kids-Skating-2025-26.jpg
END:VEVENT
BEGIN:VEVENT
DTSTART;TZID=America/Edmonton:20251231T133000
DTEND;TZID=America/Edmonton:20251231T153000
DTSTAMP:20260424T030045
CREATED:20241002T171815Z
LAST-MODIFIED:20250714T170050Z
UID:10004083-1767187800-1767195000@www.county.stpaul.ab.ca
SUMMARY:Employment Skills In-person Workshops
DESCRIPTION:Free\, in-person workshops to enhance your employment skills! \nRegister with St. Paul’s Lakeland Employment Services at 780-646-6729 or email ehilligas@employabilities.ca
URL:https://www.county.stpaul.ab.ca/event/employment-skills-in-person-workshops/2025-12-31/
LOCATION:Northstar Complex\, 2nd Floor\, 4701 50 Avenue\, St. Paul\, Alberta\, Canada
CATEGORIES:Business,Education
ATTACH;FMTTYPE=image/jpeg:https://s3.ca-central-1.amazonaws.com/oc-county.stpaul.ab.ca/wp-content/uploads/2024/10/14105238/LES-Events-In-Person-Workshops-2025.jpg
END:VEVENT
BEGIN:VEVENT
DTSTART;TZID=America/Edmonton:20251231T183000
DTEND;TZID=America/Edmonton:20251231T200000
DTSTAMP:20260424T030045
CREATED:20240402T161047Z
LAST-MODIFIED:20250905T175701Z
UID:10005059-1767205800-1767211200@www.county.stpaul.ab.ca
SUMMARY:Last Wednesday of the Month Book Club
DESCRIPTION:Join like-minded people every month to discuss the Book of the Month! \nEmail programs@stpaullibrary.ab.ca for more information on the month’s book.
URL:https://www.county.stpaul.ab.ca/event/last-wednesday-of-the-month-book-club/2025-12-31/
LOCATION:St. Paul Municipal Library\, 4802 53 Street\, Saint Paul\, Alberta\, T0A 3A4\, Canada
CATEGORIES:Arts & Culture,Recreation
ATTACH;FMTTYPE=image/jpeg:https://s3.ca-central-1.amazonaws.com/oc-county.stpaul.ab.ca/wp-content/uploads/2024/04/05115525/St.-Paul-Library-Events-End-of-the-Month-Bookclub-2025-26.jpg
END:VEVENT
BEGIN:VEVENT
DTSTART;TZID=America/Edmonton:20260101T080000
DTEND;TZID=America/Edmonton:20260101T170000
DTSTAMP:20260424T030045
CREATED:20251208T175803Z
LAST-MODIFIED:20251208T175803Z
UID:10005460-1767254400-1767286800@www.county.stpaul.ab.ca
SUMMARY:Gingerbread Contest
DESCRIPTION:An online contest for ages 13-21 to show off their most creative\, festive\, or funny gingerbread houses and cookies! \nPost your creation and tag @SPYC20 on Instagram or email your photo to fcssyouth@town.stpaul.ab.ca
URL:https://www.county.stpaul.ab.ca/event/gingerbread-contest/2026-01-01/
LOCATION:Online
CATEGORIES:Holiday,Youth
END:VEVENT
BEGIN:VEVENT
DTSTART;TZID=America/Edmonton:20260101T120000
DTEND;TZID=America/Edmonton:20260101T170000
DTSTAMP:20260424T030045
CREATED:20250403T170912Z
LAST-MODIFIED:20250714T174708Z
UID:10003069-1767268800-1767286800@www.county.stpaul.ab.ca
SUMMARY:Elk Point Farmers' Market
DESCRIPTION:Contact Patty Jeffery to book a table at 780-819-7826.
URL:https://www.county.stpaul.ab.ca/event/elk-point-farmers-market/2026-01-01/
LOCATION:Elk Point Allied Arts Centre\, 4605 57 Avenue\, Elk Point\, Alberta\, Canada
CATEGORIES:Community
ATTACH;FMTTYPE=image/jpeg:https://s3.ca-central-1.amazonaws.com/oc-county.stpaul.ab.ca/wp-content/uploads/2025/04/14114635/Elk-Point-Allied-Arts-Events-2025-Farmers-Market.jpg
END:VEVENT
BEGIN:VEVENT
DTSTART;TZID=America/Edmonton:20260101T133000
DTEND;TZID=America/Edmonton:20260101T140000
DTSTAMP:20260424T030045
CREATED:20250711T155455Z
LAST-MODIFIED:20250711T160424Z
UID:10003999-1767274200-1767276000@www.county.stpaul.ab.ca
SUMMARY:Urban Poling in Elk Point
DESCRIPTION:Connect\, get outdoors\, and walk your way to better health\, every Thursday in Elk Point. \nParticipants will meet at the Regional FCSS office (4906 48 Street) at 1:30 p.m. before heading out on an urban poling journey! \nAll participants may register each week for FREE at 780-724-3800.
URL:https://www.county.stpaul.ab.ca/event/urban-poling-in-elk-point-2/2026-01-01/
LOCATION:Elk Point Regional FCSS Office\, 4906A 48 Street\, Elk Point\, Alberta\, Canada
CATEGORIES:Lifestyle and Health,Recreation
END:VEVENT
BEGIN:VEVENT
DTSTART;TZID=America/Edmonton:20260101T173000
DTEND;TZID=America/Edmonton:20260101T180000
DTSTAMP:20260424T030045
CREATED:20250818T210839Z
LAST-MODIFIED:20250818T210839Z
UID:10005028-1767288600-1767290400@www.county.stpaul.ab.ca
SUMMARY:Tot and Me Dance
DESCRIPTION:Explore rhythm\, music\, and creative movement with your child! \nFor ages 3.5-6\, caregiver must be in attendance. Register as a sessional or for the full year.
URL:https://www.county.stpaul.ab.ca/event/tot-and-me-dance/2026-01-01/
LOCATION:St. Paul & District Arts Foundation\, 4822 50 Avenue\, St. Paul\, Alberta\, T0A 3A0\, Canada
CATEGORIES:Youth
ATTACH;FMTTYPE=image/jpeg:https://s3.ca-central-1.amazonaws.com/oc-county.stpaul.ab.ca/wp-content/uploads/2025/08/18150626/St.-Paul-Arts-Events-Tot-and-Me-Dance-2025-2026.jpg
END:VEVENT
BEGIN:VEVENT
DTSTART;TZID=America/Edmonton:20260102T080000
DTEND;TZID=America/Edmonton:20260102T170000
DTSTAMP:20260424T030045
CREATED:20251208T175803Z
LAST-MODIFIED:20251208T175803Z
UID:10005461-1767340800-1767373200@www.county.stpaul.ab.ca
SUMMARY:Gingerbread Contest
DESCRIPTION:An online contest for ages 13-21 to show off their most creative\, festive\, or funny gingerbread houses and cookies! \nPost your creation and tag @SPYC20 on Instagram or email your photo to fcssyouth@town.stpaul.ab.ca
URL:https://www.county.stpaul.ab.ca/event/gingerbread-contest/2026-01-02/
LOCATION:Online
CATEGORIES:Holiday,Youth
END:VEVENT
BEGIN:VEVENT
DTSTART;TZID=America/Edmonton:20260102T180000
DTEND;TZID=America/Edmonton:20260102T210000
DTSTAMP:20260424T030045
CREATED:20240402T160303Z
LAST-MODIFIED:20260124T001321Z
UID:10007438-1767376800-1767387600@www.county.stpaul.ab.ca
SUMMARY:Library After Dark: Adult Boardgame Night
DESCRIPTION:For ages 18+! Registration is required for this event\, due to it taking place after the library’s regular hours. \nThis event can be registered for under the ‘Programs’ tab on the St. Paul Library website or email programs@stpaullibrary.ab.ca
URL:https://www.county.stpaul.ab.ca/event/library-after-dark-adult-boardgame-night/2026-01-02/
LOCATION:St. Paul Municipal Library\, 4802 53 Street\, Saint Paul\, Alberta\, T0A 3A4\, Canada
CATEGORIES:Recreation
ATTACH;FMTTYPE=image/jpeg:https://s3.ca-central-1.amazonaws.com/oc-county.stpaul.ab.ca/wp-content/uploads/2024/04/31162947/St.-Paul-Library-Events-Adult-Boardgame-Night-2025.jpg
END:VEVENT
BEGIN:VEVENT
DTSTART;TZID=America/Edmonton:20260103T080000
DTEND;TZID=America/Edmonton:20260103T170000
DTSTAMP:20260424T030045
CREATED:20251208T175803Z
LAST-MODIFIED:20251208T175803Z
UID:10005462-1767427200-1767459600@www.county.stpaul.ab.ca
SUMMARY:Gingerbread Contest
DESCRIPTION:An online contest for ages 13-21 to show off their most creative\, festive\, or funny gingerbread houses and cookies! \nPost your creation and tag @SPYC20 on Instagram or email your photo to fcssyouth@town.stpaul.ab.ca
URL:https://www.county.stpaul.ab.ca/event/gingerbread-contest/2026-01-03/
LOCATION:Online
CATEGORIES:Holiday,Youth
END:VEVENT
BEGIN:VEVENT
DTSTART;TZID=America/Edmonton:20260104T080000
DTEND;TZID=America/Edmonton:20260104T170000
DTSTAMP:20260424T030045
CREATED:20251208T175803Z
LAST-MODIFIED:20251208T175803Z
UID:10005463-1767513600-1767546000@www.county.stpaul.ab.ca
SUMMARY:Gingerbread Contest
DESCRIPTION:An online contest for ages 13-21 to show off their most creative\, festive\, or funny gingerbread houses and cookies! \nPost your creation and tag @SPYC20 on Instagram or email your photo to fcssyouth@town.stpaul.ab.ca
URL:https://www.county.stpaul.ab.ca/event/gingerbread-contest/2026-01-04/
LOCATION:Online
CATEGORIES:Holiday,Youth
END:VEVENT
BEGIN:VEVENT
DTSTART;TZID=America/Edmonton:20260104T160000
DTEND;TZID=America/Edmonton:20260104T173000
DTSTAMP:20260424T030045
CREATED:20251003T154954Z
LAST-MODIFIED:20251106T003239Z
UID:10005328-1767542400-1767547800@www.county.stpaul.ab.ca
SUMMARY:SPYC Council Meeting
DESCRIPTION:Join the SPYC meeting and make your voice heard!
URL:https://www.county.stpaul.ab.ca/event/spyc-council-meeting/2026-01-04/
LOCATION:St. Paul Regional FCSS Office\, 5002 51 Avenue\, St. Paul\, Alberta\, T0A 3A1\, Canada
CATEGORIES:Youth
ATTACH;FMTTYPE=image/jpeg:https://s3.ca-central-1.amazonaws.com/oc-county.stpaul.ab.ca/wp-content/uploads/2025/10/05173205/SPYC-Events-Council-Meeting-2025-26.jpg
END:VEVENT
BEGIN:VEVENT
DTSTART;TZID=America/Edmonton:20260105T080000
DTEND;TZID=America/Edmonton:20260105T170000
DTSTAMP:20260424T030045
CREATED:20251124T161101Z
LAST-MODIFIED:20251124T161101Z
UID:10005391-1767600000-1767632400@www.county.stpaul.ab.ca
SUMMARY:Screen Test Mobile Mammography Clinic - St. Paul
DESCRIPTION:How to book: Call 1-800-667-0604 (toll-free) \nCost: None \nWho should be screened? \n\nWomen 45 to 74: Breast screening is proven to have the most benefit for this age range. Have a mammogram every 2 years\, no referral needed.\nWomen 40 to 44: Screening is optional and they should discuss the risks and benefits of screening with their health care provider. A referral is needed for their first mammogram in Alberta\, which is available online here.\nWomen 75 and over: Can continue screening and should discuss the risks and benefits with their health care provider.\nScreening mammograms are not recommended for those under age 40: Talk to your health care provider if concerned about having an increased risk of breast cancer.\n\nTransgender\, gender diverse and non-binary people eligible for screening: \n\nAssigned female at birth and have not undergone top surgery (mastectomy)\, or\nAssigned male at birth and have been on feminizing hormone therapy for 5+ years in total.\n\nWhy are mammograms important? Screening mammograms are routine tests used to find early signs of cancer in individuals who have no breast problems or symptoms. They can find changes in the breast that are too small to be felt\, before symptoms appear and when treatment may work better. To learn more about Screen Test\, visit our website or call us at 1-800-667-0604.
URL:https://www.county.stpaul.ab.ca/event/screen-test-mobile-mammography-clinic-st-paul/2026-01-05/
LOCATION:St. Paul Community Health Services\, 5610 50 Avenue\, St. Paul\, Alberta\, T0A 3A4\, Canada
CATEGORIES:Lifestyle and Health
END:VEVENT
BEGIN:VEVENT
DTSTART;TZID=America/Edmonton:20260105T080000
DTEND;TZID=America/Edmonton:20260105T170000
DTSTAMP:20260424T030045
CREATED:20251208T175803Z
LAST-MODIFIED:20251208T175803Z
UID:10005464-1767600000-1767632400@www.county.stpaul.ab.ca
SUMMARY:Gingerbread Contest
DESCRIPTION:An online contest for ages 13-21 to show off their most creative\, festive\, or funny gingerbread houses and cookies! \nPost your creation and tag @SPYC20 on Instagram or email your photo to fcssyouth@town.stpaul.ab.ca
URL:https://www.county.stpaul.ab.ca/event/gingerbread-contest/2026-01-05/
LOCATION:Online
CATEGORIES:Holiday,Youth
END:VEVENT
BEGIN:VEVENT
DTSTART;TZID=America/Edmonton:20260105T103000
DTEND;TZID=America/Edmonton:20260105T120000
DTSTAMP:20260424T030045
CREATED:20251209T155501Z
LAST-MODIFIED:20251209T155501Z
UID:10005470-1767609000-1767614400@www.county.stpaul.ab.ca
SUMMARY:Drop-in Family Storytime
DESCRIPTION:No registration required!
URL:https://www.county.stpaul.ab.ca/event/drop-in-family-storytime/
LOCATION:St. Paul Municipal Library\, 4802 53 Street\, Saint Paul\, Alberta\, T0A 3A4\, Canada
CATEGORIES:Youth
END:VEVENT
BEGIN:VEVENT
DTSTART;TZID=America/Edmonton:20260105T140000
DTEND;TZID=America/Edmonton:20260105T180000
DTSTAMP:20260424T030045
CREATED:20251230T213633Z
LAST-MODIFIED:20251230T213633Z
UID:10005478-1767621600-1767636000@www.county.stpaul.ab.ca
SUMMARY:TREX Exhibit: Women Gone Wild
DESCRIPTION:Celebrate the beauty\, spirit\, and imagination of nature through powerful works by three incredible artists. From realistic wildlife portrayals to bold abstract interpretations\, this exhibit invites viewers to “go wild” and experience creativity inspired by the natural world.
URL:https://www.county.stpaul.ab.ca/event/trex-exhibit-women-gone-wild/2026-01-05/
LOCATION:St. Paul & District Arts Foundation\, 4822 50 Avenue\, St. Paul\, Alberta\, T0A 3A0\, Canada
CATEGORIES:Arts & Culture
END:VEVENT
BEGIN:VEVENT
DTSTART;TZID=America/Edmonton:20260105T151500
DTEND;TZID=America/Edmonton:20260105T173000
DTSTAMP:20260424T030045
CREATED:20251003T203744Z
LAST-MODIFIED:20251003T203744Z
UID:10005271-1767626100-1767634200@www.county.stpaul.ab.ca
SUMMARY:St. Paul After School Program 2025/26
DESCRIPTION:Send your kids after school on Mondays to a safe\, supervised area to complete homework\, read\, craft\, etc. \n$15/hour\, registration required. Email laura@ruralrootsacademy.com
URL:https://www.county.stpaul.ab.ca/event/st-paul-after-school-program-2025-26/2026-01-05/
LOCATION:Rural Roots Academy\, 4703 50 Avenue\, St. Paul\, Alberta\, Canada
ATTACH;FMTTYPE=image/jpeg:https://s3.ca-central-1.amazonaws.com/oc-county.stpaul.ab.ca/wp-content/uploads/2025/10/03143610/Rural-Roots-Events-After-School-Program-2025-26.jpg
END:VEVENT
BEGIN:VEVENT
DTSTART;TZID=America/Edmonton:20260106T080000
DTEND;TZID=America/Edmonton:20260106T170000
DTSTAMP:20260424T030045
CREATED:20251124T161101Z
LAST-MODIFIED:20251124T161101Z
UID:10005392-1767686400-1767718800@www.county.stpaul.ab.ca
SUMMARY:Screen Test Mobile Mammography Clinic - St. Paul
DESCRIPTION:How to book: Call 1-800-667-0604 (toll-free) \nCost: None \nWho should be screened? \n\nWomen 45 to 74: Breast screening is proven to have the most benefit for this age range. Have a mammogram every 2 years\, no referral needed.\nWomen 40 to 44: Screening is optional and they should discuss the risks and benefits of screening with their health care provider. A referral is needed for their first mammogram in Alberta\, which is available online here.\nWomen 75 and over: Can continue screening and should discuss the risks and benefits with their health care provider.\nScreening mammograms are not recommended for those under age 40: Talk to your health care provider if concerned about having an increased risk of breast cancer.\n\nTransgender\, gender diverse and non-binary people eligible for screening: \n\nAssigned female at birth and have not undergone top surgery (mastectomy)\, or\nAssigned male at birth and have been on feminizing hormone therapy for 5+ years in total.\n\nWhy are mammograms important? Screening mammograms are routine tests used to find early signs of cancer in individuals who have no breast problems or symptoms. They can find changes in the breast that are too small to be felt\, before symptoms appear and when treatment may work better. To learn more about Screen Test\, visit our website or call us at 1-800-667-0604.
URL:https://www.county.stpaul.ab.ca/event/screen-test-mobile-mammography-clinic-st-paul/2026-01-06/
LOCATION:St. Paul Community Health Services\, 5610 50 Avenue\, St. Paul\, Alberta\, T0A 3A4\, Canada
CATEGORIES:Lifestyle and Health
END:VEVENT
BEGIN:VEVENT
DTSTART;TZID=America/Edmonton:20260106T080000
DTEND;TZID=America/Edmonton:20260106T170000
DTSTAMP:20260424T030045
CREATED:20251208T175803Z
LAST-MODIFIED:20251208T175803Z
UID:10005465-1767686400-1767718800@www.county.stpaul.ab.ca
SUMMARY:Gingerbread Contest
DESCRIPTION:An online contest for ages 13-21 to show off their most creative\, festive\, or funny gingerbread houses and cookies! \nPost your creation and tag @SPYC20 on Instagram or email your photo to fcssyouth@town.stpaul.ab.ca
URL:https://www.county.stpaul.ab.ca/event/gingerbread-contest/2026-01-06/
LOCATION:Online
CATEGORIES:Holiday,Youth
END:VEVENT
BEGIN:VEVENT
DTSTART;TZID=America/Edmonton:20260106T130000
DTEND;TZID=America/Edmonton:20260106T150000
DTSTAMP:20260424T030045
CREATED:20250730T145458Z
LAST-MODIFIED:20250811T192919Z
UID:10004455-1767704400-1767711600@www.county.stpaul.ab.ca
SUMMARY:Iskwewak Healing Together (Women’s Circle)
DESCRIPTION:Join Mannawanis for weekly healing circles — safe spaces for sharing\, support\, and community connection. \n\nThese circles offer a welcoming space for reflection\, healing\, and growth rooted in Indigenous teachings and community care. All are welcome.\n\n\nQuestions? Call 780-645-4630 and ask for Twila.
URL:https://www.county.stpaul.ab.ca/event/iskwewak-healing-together-womens-circle/2026-01-06/
LOCATION:Mannawanis Native Friendship Centre Society\, 4901 50 Street\, St. Paul\, Alberta\, T0A 3A4\, Canada
CATEGORIES:Community
ATTACH;FMTTYPE=image/jpeg:https://s3.ca-central-1.amazonaws.com/oc-county.stpaul.ab.ca/wp-content/uploads/2025/07/11132813/Mannawanis-Events-Womens-Healing-Circle-2025R.jpg
END:VEVENT
BEGIN:VEVENT
DTSTART;TZID=America/Edmonton:20260106T140000
DTEND;TZID=America/Edmonton:20260106T180000
DTSTAMP:20260424T030045
CREATED:20251230T213633Z
LAST-MODIFIED:20251230T213633Z
UID:10005479-1767708000-1767722400@www.county.stpaul.ab.ca
SUMMARY:TREX Exhibit: Women Gone Wild
DESCRIPTION:Celebrate the beauty\, spirit\, and imagination of nature through powerful works by three incredible artists. From realistic wildlife portrayals to bold abstract interpretations\, this exhibit invites viewers to “go wild” and experience creativity inspired by the natural world.
URL:https://www.county.stpaul.ab.ca/event/trex-exhibit-women-gone-wild/2026-01-06/
LOCATION:St. Paul & District Arts Foundation\, 4822 50 Avenue\, St. Paul\, Alberta\, T0A 3A0\, Canada
CATEGORIES:Arts & Culture
END:VEVENT
END:VCALENDAR