BEGIN:VCALENDAR
VERSION:2.0
PRODID:-//County of St. Paul - ECPv6.15.17.1//NONSGML v1.0//EN
CALSCALE:GREGORIAN
METHOD:PUBLISH
X-ORIGINAL-URL:https://www.county.stpaul.ab.ca
X-WR-CALDESC:Events for County of St. Paul
REFRESH-INTERVAL;VALUE=DURATION:PT1H
X-Robots-Tag:noindex
X-PUBLISHED-TTL:PT1H
BEGIN:VTIMEZONE
TZID:America/Edmonton
BEGIN:DAYLIGHT
TZOFFSETFROM:-0700
TZOFFSETTO:-0600
TZNAME:MDT
DTSTART:20250309T090000
END:DAYLIGHT
BEGIN:STANDARD
TZOFFSETFROM:-0600
TZOFFSETTO:-0700
TZNAME:MST
DTSTART:20251102T080000
END:STANDARD
BEGIN:DAYLIGHT
TZOFFSETFROM:-0700
TZOFFSETTO:-0600
TZNAME:MDT
DTSTART:20260308T090000
END:DAYLIGHT
BEGIN:STANDARD
TZOFFSETFROM:-0600
TZOFFSETTO:-0700
TZNAME:MST
DTSTART:20261101T080000
END:STANDARD
BEGIN:DAYLIGHT
TZOFFSETFROM:-0700
TZOFFSETTO:-0600
TZNAME:MDT
DTSTART:20270314T090000
END:DAYLIGHT
BEGIN:STANDARD
TZOFFSETFROM:-0600
TZOFFSETTO:-0700
TZNAME:MST
DTSTART:20271107T080000
END:STANDARD
END:VTIMEZONE
BEGIN:VEVENT
DTSTART;TZID=America/Edmonton:20260423T180000
DTEND;TZID=America/Edmonton:20260423T193000
DTSTAMP:20260425T042731
CREATED:20240402T212912Z
LAST-MODIFIED:20260409T195626Z
UID:10000965-1776967200-1776972600@www.county.stpaul.ab.ca
SUMMARY:Evening Run\, Jump\, Skip
DESCRIPTION:Encouraging gross motor development\, sharing\, and taking turns while being active and having fun! \nFREE drop in for ages 0-6. Call 780-645-5311 for more information.
URL:https://www.county.stpaul.ab.ca/event/evening-run-jump-skip/
LOCATION:ACFA Régionale de Saint-Paul\, 4617 50 Avenue\, St. Paul\, Alberta\, T0A 3A3\, Canada
CATEGORIES:Recreation,Youth
ATTACH;FMTTYPE=image/png:https://s3.ca-central-1.amazonaws.com/oc-county.stpaul.ab.ca/wp-content/uploads/2024/04/09135543/LFRN-Events-Evening-Run-Jump-Skip-20260423.png
END:VEVENT
BEGIN:VEVENT
DTSTART;TZID=America/Edmonton:20260423T133000
DTEND;TZID=America/Edmonton:20260423T150000
DTSTAMP:20260425T042731
CREATED:20240507T201645Z
LAST-MODIFIED:20260409T195309Z
UID:10003735-1776951000-1776956400@www.county.stpaul.ab.ca
SUMMARY:Baby Bunch - St. Paul
DESCRIPTION:Come connect with other families while learning about child development and parenting. \nFREE drop-in\, call 780-645-5311 for more info.
URL:https://www.county.stpaul.ab.ca/event/baby-bunch-st-paul/
LOCATION:St. Paul Regional FCSS Office\, 5002 51 Avenue\, St. Paul\, Alberta\, T0A 3A1\, Canada
CATEGORIES:Youth
ATTACH;FMTTYPE=image/png:https://s3.ca-central-1.amazonaws.com/oc-county.stpaul.ab.ca/wp-content/uploads/2024/05/09135235/LFRN-Events-Baby-Bunch-20260423.png
END:VEVENT
BEGIN:VEVENT
DTSTART;TZID=America/Edmonton:20260422T180000
DTEND;TZID=America/Edmonton:20260422T200000
DTSTAMP:20260425T042731
CREATED:20240507T155605Z
LAST-MODIFIED:20260409T194959Z
UID:10000890-1776880800-1776888000@www.county.stpaul.ab.ca
SUMMARY:Dungeons & Dragons
DESCRIPTION:Geared to youth ages 12-18\, connect with friends and learn a new game! \nDungeon Master will be in attendance. Free event with snacks! Call to register at 780-645-5311.
URL:https://www.county.stpaul.ab.ca/event/dungeons-dragons/
LOCATION:St. Paul Regional FCSS Office\, 5002 51 Avenue\, St. Paul\, Alberta\, T0A 3A1\, Canada
CATEGORIES:Recreation,Youth
ATTACH;FMTTYPE=image/png:https://s3.ca-central-1.amazonaws.com/oc-county.stpaul.ab.ca/wp-content/uploads/2024/05/09134923/LFRN-Events-Dungeons-Dragons-20260422.png
END:VEVENT
BEGIN:VEVENT
DTSTART;TZID=America/Edmonton:20260417T140000
DTEND;TZID=America/Edmonton:20260417T160000
DTSTAMP:20260425T042731
CREATED:20241001T221414Z
LAST-MODIFIED:20260409T205918Z
UID:10002263-1776434400-1776441600@www.county.stpaul.ab.ca
SUMMARY:ASQ Screening - Elk Point
DESCRIPTION:Is your child meeting developmental milestones? \nASQ screenings check communication\, fine motor skills\, gross motor skills\, problem solving\, personal-social skills\, and social emotional skills. \nFree 30-minute appointments for 2-60 month-olds. Call 780-724-3800 to book and register.
URL:https://www.county.stpaul.ab.ca/event/asq-screening-elk-point/
LOCATION:Elk Point Regional FCSS Office\, 4906A 48 Street\, Elk Point\, Alberta\, Canada
CATEGORIES:Youth
ATTACH;FMTTYPE=image/png:https://s3.ca-central-1.amazonaws.com/oc-county.stpaul.ab.ca/wp-content/uploads/2024/10/09145832/LFRN-Events-ASQ-Screening-SP-20260417.png
END:VEVENT
BEGIN:VEVENT
DTSTART;TZID=America/Edmonton:20260416T100000
DTEND;TZID=America/Edmonton:20260416T120000
DTSTAMP:20260425T042731
CREATED:20260306T210425Z
LAST-MODIFIED:20260409T194658Z
UID:10007638-1776333600-1776340800@www.county.stpaul.ab.ca
SUMMARY:Mini Makers
DESCRIPTION:A fun\, hands-on crafting program that encourages imagination and sharing. \nFEEE drop-in for ages 0-6\, call 780-645-5311 for more info.
URL:https://www.county.stpaul.ab.ca/event/mini-makers/
LOCATION:St. Paul Regional FCSS Office\, 5002 51 Avenue\, St. Paul\, Alberta\, T0A 3A1\, Canada
CATEGORIES:Youth
ATTACH;FMTTYPE=image/png:https://s3.ca-central-1.amazonaws.com/oc-county.stpaul.ab.ca/wp-content/uploads/2026/03/09134615/LFRN-Events-Mini-Makers-20260416.png
END:VEVENT
BEGIN:VEVENT
DTSTART;TZID=America/Edmonton:20260413T153000
DTEND;TZID=America/Edmonton:20260413T173000
DTSTAMP:20260425T042731
CREATED:20260409T205632Z
LAST-MODIFIED:20260409T205632Z
UID:10007679-1776094200-1776101400@www.county.stpaul.ab.ca
SUMMARY:Creative Youth
DESCRIPTION:Some canvas painting to unleash your creativity! \nFor youth ages 7+\, FREE to register. Call 780-724-3800.
URL:https://www.county.stpaul.ab.ca/event/creative-youth/
LOCATION:Elk Point Regional FCSS Office\, 4906A 48 Street\, Elk Point\, Alberta\, Canada
CATEGORIES:Arts & Culture,Youth
ATTACH;FMTTYPE=image/png:https://s3.ca-central-1.amazonaws.com/oc-county.stpaul.ab.ca/wp-content/uploads/2026/04/09145358/LFRN-Events-Creative-Youth-20260413.png
END:VEVENT
BEGIN:VEVENT
DTSTART;TZID=America/Edmonton:20260413T100000
DTEND;TZID=America/Edmonton:20260413T120000
DTSTAMP:20260425T042731
CREATED:20240402T203506Z
LAST-MODIFIED:20260409T193957Z
UID:10000959-1776074400-1776081600@www.county.stpaul.ab.ca
SUMMARY:Loose Parts Play
DESCRIPTION:Express creativity and imagination skills with common everyday items. \nDrop in to this FREE session and contact 780-645-5311 for questions.
URL:https://www.county.stpaul.ab.ca/event/loose-parts-play-ages-0-6/
LOCATION:St. Paul Regional FCSS Office\, 5002 51 Avenue\, St. Paul\, Alberta\, T0A 3A1\, Canada
CATEGORIES:Youth
ATTACH;FMTTYPE=image/png:https://s3.ca-central-1.amazonaws.com/oc-county.stpaul.ab.ca/wp-content/uploads/2024/04/09133918/LFRN-Events-Loose-Parts-Play-20260413.png
END:VEVENT
BEGIN:VEVENT
DTSTART;TZID=America/Edmonton:20260410T140000
DTEND;TZID=America/Edmonton:20260410T160000
DTSTAMP:20260425T042731
CREATED:20250131T223317Z
LAST-MODIFIED:20260409T204213Z
UID:10002780-1775829600-1775836800@www.county.stpaul.ab.ca
SUMMARY:Triple P Parenting Tip
DESCRIPTION:Call 780-724-3800 to register for a FREE Triple P Parenting tip sheet! \nSheet tip: Tidying Up
URL:https://www.county.stpaul.ab.ca/event/triple-p-parenting-tip/
LOCATION:Elk Point Regional FCSS Office\, 4906A 48 Street\, Elk Point\, Alberta\, Canada
CATEGORIES:Lifestyle and Health,Youth
ATTACH;FMTTYPE=image/png:https://s3.ca-central-1.amazonaws.com/oc-county.stpaul.ab.ca/wp-content/uploads/2025/01/09144023/LFRN-Events-EP-Tip-Sheet-20260410.png
END:VEVENT
BEGIN:VEVENT
DTSTART;TZID=America/Edmonton:20260410T100000
DTEND;TZID=America/Edmonton:20260410T120000
DTSTAMP:20260425T042731
CREATED:20240507T203614Z
LAST-MODIFIED:20260409T203523Z
UID:10001019-1775815200-1775822400@www.county.stpaul.ab.ca
SUMMARY:Storytime & Craft - Elk Point
DESCRIPTION:Encouraging speech and language development\, attention span\, listening skills\, and bonding. \nFREE for ages 0-6. Call 780-724-3800 to register.
URL:https://www.county.stpaul.ab.ca/event/storytime-craft-elk-point/
LOCATION:Elk Point Regional FCSS Office\, 4906A 48 Street\, Elk Point\, Alberta\, Canada
CATEGORIES:Youth
ATTACH;FMTTYPE=image/png:https://s3.ca-central-1.amazonaws.com/oc-county.stpaul.ab.ca/wp-content/uploads/2024/05/09143430/LFRN-Events-Storytime-Craft-20260410.png
END:VEVENT
BEGIN:VEVENT
DTSTART;TZID=America/Edmonton:20260410T100000
DTEND;TZID=America/Edmonton:20260410T120000
DTSTAMP:20260425T042731
CREATED:20240507T175024Z
LAST-MODIFIED:20260409T193712Z
UID:10001014-1775815200-1775822400@www.county.stpaul.ab.ca
SUMMARY:ASQ Screening - St. Paul
DESCRIPTION:Is your child meeting developmental milestones? \nASQ screenings check communication\, fine motor skills\, gross motor skills\, problem solving\, personal-social skills\, and social emotional skills. \nFree 30-minute appointments for 2-60 month-olds. Call 780-645-5311 to book and register.
URL:https://www.county.stpaul.ab.ca/event/asq-screening-st-paul/
LOCATION:St. Paul Regional FCSS Office\, 5002 51 Avenue\, St. Paul\, Alberta\, T0A 3A1\, Canada
CATEGORIES:Youth
ATTACH;FMTTYPE=image/png:https://s3.ca-central-1.amazonaws.com/oc-county.stpaul.ab.ca/wp-content/uploads/2024/05/09133640/LFRN-Events-ASQ-Screening-20260410.png
END:VEVENT
BEGIN:VEVENT
DTSTART;TZID=America/Edmonton:20260330T153000
DTEND;TZID=America/Edmonton:20260330T173000
DTSTAMP:20260425T042731
CREATED:20240402T220626Z
LAST-MODIFIED:20260309T202713Z
UID:10000972-1774884600-1774891800@www.county.stpaul.ab.ca
SUMMARY:Home Alone Course - Elk Point
DESCRIPTION:Geared to ages 8+ who are beginning to stay home alone. \nRegister your kids at 780-724-3800. There is a $10 registration fee.
URL:https://www.county.stpaul.ab.ca/event/home-alone-course-elk-point/
LOCATION:Elk Point Regional FCSS Office\, 4906A 48 Street\, Elk Point\, Alberta\, Canada
CATEGORIES:Education,Youth
ATTACH;FMTTYPE=image/jpeg:https://s3.ca-central-1.amazonaws.com/oc-county.stpaul.ab.ca/wp-content/uploads/2024/04/09142639/LFRN-Events-Home-Alone-Course-20260330.jpg
END:VEVENT
BEGIN:VEVENT
DTSTART;TZID=America/Edmonton:20260328T100000
DTEND;TZID=America/Edmonton:20260328T120000
DTSTAMP:20260425T042731
CREATED:20240904T191633Z
LAST-MODIFIED:20260306T205251Z
UID:10002035-1774692000-1774699200@www.county.stpaul.ab.ca
SUMMARY:DAD-urday
DESCRIPTION:Give moms and mother figures a break for the morning! Includes pancake brunch and fun activities. \nFREE drop-in for ages 0-10 with their dads and father figures. Call 780-645-5311 for more info.
URL:https://www.county.stpaul.ab.ca/event/dad-urday/
LOCATION:St. Paul Regional FCSS Office\, 5002 51 Avenue\, St. Paul\, Alberta\, T0A 3A1\, Canada
CATEGORIES:Community,Youth
ATTACH;FMTTYPE=image/jpeg:https://s3.ca-central-1.amazonaws.com/oc-county.stpaul.ab.ca/wp-content/uploads/2024/09/06135218/LFRN-Events-Dadurday-20260328.jpg
END:VEVENT
BEGIN:VEVENT
DTSTART;TZID=America/Edmonton:20260328T100000
DTEND;TZID=America/Edmonton:20260328T113000
DTSTAMP:20260425T042731
CREATED:20241104T223629Z
LAST-MODIFIED:20260309T202252Z
UID:10002351-1774692000-1774697400@www.county.stpaul.ab.ca
SUMMARY:Run\, Jump\, Skip - Elk Point
DESCRIPTION:Encouraging gross motor development\, sharing and taking turns\, while being active and having fun! \nFree drop-in event for ages 0-6! Call 780-724-3800 for more info.
URL:https://www.county.stpaul.ab.ca/event/run-jump-skip-elk-point/
LOCATION:Elk Point Elementary Gym\, 5410 50 Street\, Elk Point\, Alberta\, T0A 1A0\, Canada
CATEGORIES:Youth
ATTACH;FMTTYPE=image/jpeg:https://s3.ca-central-1.amazonaws.com/oc-county.stpaul.ab.ca/wp-content/uploads/2024/11/09142216/LFRN-Events-Run-Jump-Skip-20260328.jpg
END:VEVENT
BEGIN:VEVENT
DTSTART;TZID=America/Edmonton:20260327T100000
DTEND;TZID=America/Edmonton:20260327T120000
DTSTAMP:20260425T042731
CREATED:20260309T202022Z
LAST-MODIFIED:20260309T202022Z
UID:10007643-1774605600-1774612800@www.county.stpaul.ab.ca
SUMMARY:Little Bunny Playtime
DESCRIPTION:Egg decorating\, storytime\, and hands-on crafts! \nFREE drop-in for kids ages 0-6\, call 780-724-3800 for more info.
URL:https://www.county.stpaul.ab.ca/event/little-bunny-playtime/
LOCATION:Elk Point Regional FCSS Office\, 4906A 48 Street\, Elk Point\, Alberta\, Canada
CATEGORIES:Youth
ATTACH;FMTTYPE=image/jpeg:https://s3.ca-central-1.amazonaws.com/oc-county.stpaul.ab.ca/wp-content/uploads/2026/03/09141859/LFRN-Events-Little-Bunny-Playtime-20260327.jpg
END:VEVENT
BEGIN:VEVENT
DTSTART;TZID=America/Edmonton:20260323T153000
DTEND;TZID=America/Edmonton:20260323T173000
DTSTAMP:20260425T042731
CREATED:20260306T214949Z
LAST-MODIFIED:20260306T214949Z
UID:10007641-1774279800-1774287000@www.county.stpaul.ab.ca
SUMMARY:Collage Easter Eggs
DESCRIPTION:Celebrate spring and colour with some simple Easter egg decorating techniques! \nFREE to kids ages 7+\, call 780-724-3800 to register.
URL:https://www.county.stpaul.ab.ca/event/collage-easter-eggs/
LOCATION:Elk Point Regional FCSS Office\, 4906A 48 Street\, Elk Point\, Alberta\, Canada
CATEGORIES:Youth
ATTACH;FMTTYPE=image/jpeg:https://s3.ca-central-1.amazonaws.com/oc-county.stpaul.ab.ca/wp-content/uploads/2026/03/06144733/LFRN-Events-Collage-Easter-Eggs-20260323.jpg
END:VEVENT
BEGIN:VEVENT
DTSTART;TZID=America/Edmonton:20260320T100000
DTEND;TZID=America/Edmonton:20260320T120000
DTSTAMP:20260425T042731
CREATED:20240507T222527Z
LAST-MODIFIED:20260306T214343Z
UID:10001021-1774000800-1774008000@www.county.stpaul.ab.ca
SUMMARY:Icky\, Sticky\, Messy - Elk Point
DESCRIPTION:Letting your children learn through sensory play without having to clean up the mess! \nFREE drop-in event.
URL:https://www.county.stpaul.ab.ca/event/icky-sticky-messy-elk-point/
LOCATION:Elk Point Regional FCSS Office\, 4906A 48 Street\, Elk Point\, Alberta\, Canada
CATEGORIES:Youth
ATTACH;FMTTYPE=image/jpeg:https://s3.ca-central-1.amazonaws.com/oc-county.stpaul.ab.ca/wp-content/uploads/2024/05/06144243/LFRN-Events-Icky-Sticky-Messy-20260320.jpg
END:VEVENT
BEGIN:VEVENT
DTSTART;TZID=America/Edmonton:20260319T100000
DTEND;TZID=America/Edmonton:20260319T120000
DTSTAMP:20260425T042731
CREATED:20240402T213640Z
LAST-MODIFIED:20260306T203747Z
UID:10000966-1773914400-1773921600@www.county.stpaul.ab.ca
SUMMARY:Fine Motor Fun - St. Paul
DESCRIPTION:Developing fine motor skills through play. \nFREE drop in. Call 780-645-5311 for more information.
URL:https://www.county.stpaul.ab.ca/event/fine-motor-fun-st-paul/
LOCATION:St. Paul Regional FCSS Office\, 5002 51 Avenue\, St. Paul\, Alberta\, T0A 3A1\, Canada
CATEGORIES:Youth
ATTACH;FMTTYPE=image/jpeg:https://s3.ca-central-1.amazonaws.com/oc-county.stpaul.ab.ca/wp-content/uploads/2024/04/06133707/LFRN-Events-Fine-Motor-Fun-20260319.jpg
END:VEVENT
BEGIN:VEVENT
DTSTART;TZID=America/Edmonton:20260316T153000
DTEND;TZID=America/Edmonton:20260316T173000
DTSTAMP:20260425T042731
CREATED:20260306T214029Z
LAST-MODIFIED:20260306T214029Z
UID:10007640-1773675000-1773682200@www.county.stpaul.ab.ca
SUMMARY:Shamrock Showdown
DESCRIPTION:Crafts\, games\, and tasty treats! \nFREE for kids ages 7+\, call 780-724-3800 to register.
URL:https://www.county.stpaul.ab.ca/event/shamrock-showdown/
LOCATION:Elk Point Regional FCSS Office\, 4906A 48 Street\, Elk Point\, Alberta\, Canada
CATEGORIES:Youth
ATTACH;FMTTYPE=image/jpeg:https://s3.ca-central-1.amazonaws.com/oc-county.stpaul.ab.ca/wp-content/uploads/2026/03/06143847/LFRN-Events-Shamrock-Showdown-20260316.jpg
END:VEVENT
BEGIN:VEVENT
DTSTART;TZID=America/Edmonton:20260312T100000
DTEND;TZID=America/Edmonton:20260312T120000
DTSTAMP:20260425T042731
CREATED:20240503T221732Z
LAST-MODIFIED:20260306T203048Z
UID:10000872-1773309600-1773316800@www.county.stpaul.ab.ca
SUMMARY:Icky\, Sticky\, Messy - St. Paul
DESCRIPTION:Encouraging sensory development in ages 0-6 and helping to build social-emotional skills. \nFree drop-in event!
URL:https://www.county.stpaul.ab.ca/event/icky-sticky-messy-st-paul/
LOCATION:St. Paul Regional FCSS Office\, 5002 51 Avenue\, St. Paul\, Alberta\, T0A 3A1\, Canada
CATEGORIES:Youth
ATTACH;FMTTYPE=image/jpeg:https://s3.ca-central-1.amazonaws.com/oc-county.stpaul.ab.ca/wp-content/uploads/2024/05/06132925/LFRN-Events-Icky-Sticky-Messy-20260312.jpg
END:VEVENT
BEGIN:VEVENT
DTSTART;TZID=America/Edmonton:20260309T103000
DTEND;TZID=America/Edmonton:20260309T113000
DTSTAMP:20260425T042731
CREATED:20251002T215419Z
LAST-MODIFIED:20260123T231351Z
UID:10007422-1773052200-1773055800@www.county.stpaul.ab.ca
SUMMARY:Read and Roll
DESCRIPTION:A parent/child interactive program! \nOn Mondays\, read together and then roll with activities to explore the concepts of each story. Snacks and childcare provided. \nMaximum 6 kids\, call 780-645-5311 to register.
URL:https://www.county.stpaul.ab.ca/event/read-and-roll-2/2026-03-09/
LOCATION:St. Paul Municipal Library\, 4802 53 Street\, Saint Paul\, Alberta\, T0A 3A4\, Canada
CATEGORIES:Youth
ATTACH;FMTTYPE=image/jpeg:https://s3.ca-central-1.amazonaws.com/oc-county.stpaul.ab.ca/wp-content/uploads/2025/10/23161308/LFRN-Events-Read-and-Roll-202601-03.jpg
END:VEVENT
BEGIN:VEVENT
DTSTART;TZID=America/Edmonton:20260302T103000
DTEND;TZID=America/Edmonton:20260302T113000
DTSTAMP:20260425T042731
CREATED:20251002T215419Z
LAST-MODIFIED:20260123T231351Z
UID:10007421-1772447400-1772451000@www.county.stpaul.ab.ca
SUMMARY:Read and Roll
DESCRIPTION:A parent/child interactive program! \nOn Mondays\, read together and then roll with activities to explore the concepts of each story. Snacks and childcare provided. \nMaximum 6 kids\, call 780-645-5311 to register.
URL:https://www.county.stpaul.ab.ca/event/read-and-roll-2/2026-03-02/
LOCATION:St. Paul Municipal Library\, 4802 53 Street\, Saint Paul\, Alberta\, T0A 3A4\, Canada
CATEGORIES:Youth
ATTACH;FMTTYPE=image/jpeg:https://s3.ca-central-1.amazonaws.com/oc-county.stpaul.ab.ca/wp-content/uploads/2025/10/23161308/LFRN-Events-Read-and-Roll-202601-03.jpg
END:VEVENT
BEGIN:VEVENT
DTSTART;TZID=America/Edmonton:20260227T100000
DTEND;TZID=America/Edmonton:20260227T120000
DTSTAMP:20260425T042731
CREATED:20250711T210353Z
LAST-MODIFIED:20260206T173204Z
UID:10004046-1772186400-1772193600@www.county.stpaul.ab.ca
SUMMARY:Luau Party
DESCRIPTION:FREE to drop-in for ages 0-6\, call 780-645-5311 for more info.
URL:https://www.county.stpaul.ab.ca/event/luau-party/
LOCATION:St. Paul Regional FCSS Office\, 5002 51 Avenue\, St. Paul\, Alberta\, T0A 3A1\, Canada
CATEGORIES:Youth
ATTACH;FMTTYPE=image/jpeg:https://s3.ca-central-1.amazonaws.com/oc-county.stpaul.ab.ca/wp-content/uploads/2025/07/06103122/LFRN-Events-Luau-Party-20260227.jpg
END:VEVENT
BEGIN:VEVENT
DTSTART;TZID=America/Edmonton:20260223T153000
DTEND;TZID=America/Edmonton:20260223T173000
DTSTAMP:20260425T042731
CREATED:20260206T180111Z
LAST-MODIFIED:20260206T180111Z
UID:10007537-1771860600-1771867800@www.county.stpaul.ab.ca
SUMMARY:Creative Chaos
DESCRIPTION:An afternoon of hands-on crafting and connecting with peers! \nFor kids ages 7+\, FREE to register. Call 780-724-3800.
URL:https://www.county.stpaul.ab.ca/event/creative-chaos/
LOCATION:Elk Point Regional FCSS Office\, 4906A 48 Street\, Elk Point\, Alberta\, Canada
CATEGORIES:Youth
ATTACH;FMTTYPE=image/jpeg:https://s3.ca-central-1.amazonaws.com/oc-county.stpaul.ab.ca/wp-content/uploads/2026/02/06105955/LFRN-Events-Creative-Chaos-20260223.jpg
END:VEVENT
BEGIN:VEVENT
DTSTART;TZID=America/Edmonton:20260223T103000
DTEND;TZID=America/Edmonton:20260223T113000
DTSTAMP:20260425T042731
CREATED:20251002T215419Z
LAST-MODIFIED:20260123T231351Z
UID:10007420-1771842600-1771846200@www.county.stpaul.ab.ca
SUMMARY:Read and Roll
DESCRIPTION:A parent/child interactive program! \nOn Mondays\, read together and then roll with activities to explore the concepts of each story. Snacks and childcare provided. \nMaximum 6 kids\, call 780-645-5311 to register.
URL:https://www.county.stpaul.ab.ca/event/read-and-roll-2/2026-02-23/
LOCATION:St. Paul Municipal Library\, 4802 53 Street\, Saint Paul\, Alberta\, T0A 3A4\, Canada
CATEGORIES:Youth
ATTACH;FMTTYPE=image/jpeg:https://s3.ca-central-1.amazonaws.com/oc-county.stpaul.ab.ca/wp-content/uploads/2025/10/23161308/LFRN-Events-Read-and-Roll-202601-03.jpg
END:VEVENT
BEGIN:VEVENT
DTSTART;TZID=America/Edmonton:20260220T083000
DTEND;TZID=America/Edmonton:20260220T163000
DTSTAMP:20260425T042731
CREATED:20260206T174447Z
LAST-MODIFIED:20260206T174447Z
UID:10007535-1771576200-1771605000@www.county.stpaul.ab.ca
SUMMARY:Kids in the Kitchen
DESCRIPTION:A 4-week program for ages 10+\, teaching kids about nutrition and safe kitchen practices. \nFREE to register for this weekly session (February 23; March 2\, 16\, 23). Call 780-645-5311.
URL:https://www.county.stpaul.ab.ca/event/kids-in-the-kitchen/
LOCATION:St. Paul Regional FCSS Office\, 5002 51 Avenue\, St. Paul\, Alberta\, T0A 3A1\, Canada
CATEGORIES:Education,Lifestyle and Health,Youth
ATTACH;FMTTYPE=image/jpeg:https://s3.ca-central-1.amazonaws.com/oc-county.stpaul.ab.ca/wp-content/uploads/2026/02/06104301/LFRN-Events-Kids-in-the-Kitchen-202602-03.jpg
END:VEVENT
BEGIN:VEVENT
DTSTART;TZID=America/Edmonton:20260217T100000
DTEND;TZID=America/Edmonton:20260217T120000
DTSTAMP:20260425T042731
CREATED:20240402T210200Z
LAST-MODIFIED:20260206T165343Z
UID:10000962-1771322400-1771329600@www.county.stpaul.ab.ca
SUMMARY:Rhymes that Bind - St. Paul
DESCRIPTION:Learn new ways to support your child’s early literacy and language experiences. \nFREE to drop in for ages 0-6. Call 780-645-5311 for more info.
URL:https://www.county.stpaul.ab.ca/event/rhymes-that-bind-st-paul/
LOCATION:St. Paul Regional FCSS Office\, 5002 51 Avenue\, St. Paul\, Alberta\, T0A 3A1\, Canada
CATEGORIES:Youth
ATTACH;FMTTYPE=image/jpeg:https://s3.ca-central-1.amazonaws.com/oc-county.stpaul.ab.ca/wp-content/uploads/2024/04/06094828/LFRN-Events-Rhymes-that-Bind-20260217.jpg
END:VEVENT
BEGIN:VEVENT
DTSTART;TZID=America/Edmonton:20260217T083000
DTEND;TZID=America/Edmonton:20260217T163000
DTSTAMP:20260425T042731
CREATED:20260206T173804Z
LAST-MODIFIED:20260206T173804Z
UID:10007534-1771317000-1771345800@www.county.stpaul.ab.ca
SUMMARY:Emotion Coaching
DESCRIPTION:A 5-week course based on the book\, “Raising an Emotionally Intelligent Child”. \nFREE to register for this weekly Wednesday course (February 18\, 25; March 4\, 11\, 18). Call 780-645-5311.
URL:https://www.county.stpaul.ab.ca/event/emotion-coaching/
LOCATION:St. Paul Regional FCSS Office\, 5002 51 Avenue\, St. Paul\, Alberta\, T0A 3A1\, Canada
CATEGORIES:Education
ATTACH;FMTTYPE=image/jpeg:https://s3.ca-central-1.amazonaws.com/oc-county.stpaul.ab.ca/wp-content/uploads/2026/02/06103628/LFRN-Events-Emotion-Coaching-202602-03.jpg
END:VEVENT
BEGIN:VEVENT
DTSTART;TZID=America/Edmonton:20260213T100000
DTEND;TZID=America/Edmonton:20260213T120000
DTSTAMP:20260425T042731
CREATED:20260206T174954Z
LAST-MODIFIED:20260206T174954Z
UID:10007536-1770976800-1770984000@www.county.stpaul.ab.ca
SUMMARY:Sprinkle of Love - Elk Point
DESCRIPTION:A Valentine program to decorate cookies\, make crafts\, and make Valentine’s cards. \nFREE to drop-in for ages 0-6\, call 780-724-3800 for more info.
URL:https://www.county.stpaul.ab.ca/event/sprinkle-of-love-elk-point/
LOCATION:Elk Point Regional FCSS Office\, 4906A 48 Street\, Elk Point\, Alberta\, Canada
CATEGORIES:Youth
ATTACH;FMTTYPE=image/jpeg:https://s3.ca-central-1.amazonaws.com/oc-county.stpaul.ab.ca/wp-content/uploads/2026/02/06104851/LFRN-Events-Sprinkle-of-Love-20260213.jpg
END:VEVENT
BEGIN:VEVENT
DTSTART;TZID=America/Edmonton:20260213T100000
DTEND;TZID=America/Edmonton:20260213T120000
DTSTAMP:20260425T042731
CREATED:20240402T204423Z
LAST-MODIFIED:20260206T164613Z
UID:10000961-1770976800-1770984000@www.county.stpaul.ab.ca
SUMMARY:Home Alone Course - St. Paul
DESCRIPTION:Geared to ages 10+ who are beginning to stay home alone. \nRegister your kids at 780-645-5311. There is a $10 registration fee.
URL:https://www.county.stpaul.ab.ca/event/home-alone-course-st-paul/
LOCATION:St. Paul Regional FCSS Office\, 5002 51 Avenue\, St. Paul\, Alberta\, T0A 3A1\, Canada
CATEGORIES:Education,Youth
ATTACH;FMTTYPE=image/jpeg:https://s3.ca-central-1.amazonaws.com/oc-county.stpaul.ab.ca/wp-content/uploads/2024/04/06094527/LFRN-Events-Home-Alone-Course-20260213.jpg
END:VEVENT
BEGIN:VEVENT
DTSTART;TZID=America/Edmonton:20260211T100000
DTEND;TZID=America/Edmonton:20260211T110000
DTSTAMP:20260425T042731
CREATED:20251002T174622Z
LAST-MODIFIED:20260206T163222Z
UID:10005087-1770804000-1770807600@www.county.stpaul.ab.ca
SUMMARY:Craft at Sunnyside Manor
DESCRIPTION:Create a Valentine’s craft while visiting the seniors at Sunnyside Manor! \nFor kids ages 0-6\, FREE to register. Call 780-645-5311.
URL:https://www.county.stpaul.ab.ca/event/craft-at-sunnyside-manor/
LOCATION:Sunnyside Manor\, 4522 47 Avenue\, St. Paul\, Alberta\, T0A 3A3\, Canada
CATEGORIES:Youth
ATTACH;FMTTYPE=image/jpeg:https://s3.ca-central-1.amazonaws.com/oc-county.stpaul.ab.ca/wp-content/uploads/2025/10/06093130/LFRN-Events-Valentines-Craft-20260211.jpg
END:VEVENT
END:VCALENDAR